BEGIN:VCALENDAR
VERSION:2.0
PRODID:-// - ECPv6.15.20//NONSGML v1.0//EN
CALSCALE:GREGORIAN
METHOD:PUBLISH
X-ORIGINAL-URL:https://valladolidensutinta.es
X-WR-CALDESC:Eventos para 
REFRESH-INTERVAL;VALUE=DURATION:PT1H
X-Robots-Tag:noindex
X-PUBLISHED-TTL:PT1H
BEGIN:VTIMEZONE
TZID:Europe/Madrid
BEGIN:DAYLIGHT
TZOFFSETFROM:+0100
TZOFFSETTO:+0200
TZNAME:CEST
DTSTART:20190331T010000
END:DAYLIGHT
BEGIN:STANDARD
TZOFFSETFROM:+0200
TZOFFSETTO:+0100
TZNAME:CET
DTSTART:20191027T010000
END:STANDARD
BEGIN:DAYLIGHT
TZOFFSETFROM:+0100
TZOFFSETTO:+0200
TZNAME:CEST
DTSTART:20200329T010000
END:DAYLIGHT
BEGIN:STANDARD
TZOFFSETFROM:+0200
TZOFFSETTO:+0100
TZNAME:CET
DTSTART:20201025T010000
END:STANDARD
BEGIN:DAYLIGHT
TZOFFSETFROM:+0100
TZOFFSETTO:+0200
TZNAME:CEST
DTSTART:20210328T010000
END:DAYLIGHT
BEGIN:STANDARD
TZOFFSETFROM:+0200
TZOFFSETTO:+0100
TZNAME:CET
DTSTART:20211031T010000
END:STANDARD
END:VTIMEZONE
BEGIN:VEVENT
DTSTART;TZID=Europe/Madrid:20201119T190000
DTEND;TZID=Europe/Madrid:20201119T200000
DTSTAMP:20260424T061556
CREATED:20201104T141420Z
LAST-MODIFIED:20201104T141432Z
UID:9570-1605812400-1605816000@valladolidensutinta.es
SUMMARY:Encuentro literario con el poeta Arcadio Pardo
DESCRIPTION:Programa «Valladolid Letraherido». Moderan: Pedro Ojeda y M.ª Eugenia Matía. Videoconferencia desde París. Aforo presencial: 18 pas. Retransmisión en directo por internet a través de Facebook: CasaMuseoZorrilla/live
URL:https://valladolidensutinta.es/agenda/encuentro-literario-con-el-poeta-arcadio-pardo/
LOCATION:Casa-Museo Zorrilla\, C/Fray Luis de Granada\, 1\, Valladolid\, Valladolid\, 47003\, España
CATEGORIES:Casa Zorrilla,Homenaje poético,Valladolid Letraherido
ATTACH;FMTTYPE=image/jpeg:https://valladolidensutinta.es/wp-content/uploads/2020/11/Arcadio-Pardo.jpg
END:VEVENT
BEGIN:VEVENT
DTSTART;TZID=Europe/Madrid:20201119T190000
DTEND;TZID=Europe/Madrid:20201119T200000
DTSTAMP:20260424T061556
CREATED:20201104T141420Z
LAST-MODIFIED:20201104T141420Z
UID:13632-1605812400-1605816000@valladolidensutinta.es
SUMMARY:Encuentro literario con el poeta Arcadio Pardo
DESCRIPTION:Programa «Valladolid Letraherido». Moderan: Pedro Ojeda y M.ª Eugenia Matía. Videoconferencia desde París. Aforo presencial: 18 pas. Retransmisión en directo por internet a través de Facebook: CasaMuseoZorrilla/live
URL:https://valladolidensutinta.es/agenda/encuentro-literario-con-el-poeta-arcadio-pardo-2/
LOCATION:Casa-Museo Zorrilla\, C/Fray Luis de Granada\, 1\, Valladolid\, Valladolid\, 47003\, España
CATEGORIES:Casa Zorrilla,Homenaje poético,Valladolid Letraherido
ATTACH;FMTTYPE=image/jpeg:https://valladolidensutinta.es/wp-content/uploads/2020/11/Arcadio-Pardo.jpg
END:VEVENT
BEGIN:VEVENT
DTSTART;TZID=Europe/Madrid:20201124T183000
DTEND;TZID=Europe/Madrid:20201124T200000
DTSTAMP:20260424T061556
CREATED:20201116T070005Z
LAST-MODIFIED:20201116T070005Z
UID:13637-1606242600-1606248000@valladolidensutinta.es
SUMMARY:Recital poético: "Poemas a la carta"\, de Ángel M.ª de Pablos
DESCRIPTION:«Valladolid Letraherido» organiza este recital con motivo de la despedida del autor de la vida cultura pública. El aforo de la sala del Círculo de Recreo está limitado a 50 personas y las invitaciones para asistir al acto podrán recogerse en la Casa de Zorrilla a partir del martes 17 de noviembre\, en el horario habitual de la Casa (10 a 14 y 17 a 20 horas). Se entregará un máximo de 2 invitaciones por persona. \nEl acto será presidido por Ana Redondo García\, concejala de Cultura y Turismo del Ayuntamiento de Valladolid y será presentado por Pedro Ojeda\, codirector del programa «Valladolid Letraherido». Asimismo\, estarán representadas las principales instituciones culturales de la ciudad.
URL:https://valladolidensutinta.es/agenda/recital-poetico-poemas-a-la-carta-de-angel-m-a-de-pablos-2/
LOCATION:Círculo de Recreo
CATEGORIES:Casa Zorrilla,Homenaje poético,Recital,Valladolid Letraherido
ATTACH;FMTTYPE=image/jpeg:https://valladolidensutinta.es/wp-content/uploads/2020/11/24-Ángel-de-Pablos.jpg
END:VEVENT
BEGIN:VEVENT
DTSTART;TZID=Europe/Madrid:20201124T183000
DTEND;TZID=Europe/Madrid:20201124T200000
DTSTAMP:20260424T061556
CREATED:20201116T070005Z
LAST-MODIFIED:20201124T114803Z
UID:9647-1606242600-1606248000@valladolidensutinta.es
SUMMARY:Recital poético: "Poemas a la carta"\, de Ángel M.ª de Pablos
DESCRIPTION:«Valladolid Letraherido» organiza este recital con motivo de la despedida del autor de la vida cultura pública. El aforo de la sala del Círculo de Recreo está limitado a 50 personas y las invitaciones para asistir al acto podrán recogerse en la Casa de Zorrilla a partir del martes 17 de noviembre\, en el horario habitual de la Casa (10 a 14 y 17 a 20 horas). Se entregará un máximo de 2 invitaciones por persona. \nEl acto será presidido por Ana Redondo García\, concejala de Cultura y Turismo del Ayuntamiento de Valladolid y será presentado por Pedro Ojeda\, codirector del programa «Valladolid Letraherido». Asimismo\, estarán representadas las principales instituciones culturales de la ciudad.
URL:https://valladolidensutinta.es/agenda/recital-poetico-poemas-a-la-carta-de-angel-m-a-de-pablos/
LOCATION:Círculo de Recreo
CATEGORIES:Casa Zorrilla,Homenaje poético,Recital,Valladolid Letraherido
ATTACH;FMTTYPE=image/jpeg:https://valladolidensutinta.es/wp-content/uploads/2020/11/24-Ángel-de-Pablos.jpg
END:VEVENT
BEGIN:VEVENT
DTSTART;TZID=Europe/Madrid:20201126T190000
DTEND;TZID=Europe/Madrid:20201126T200000
DTSTAMP:20260424T061556
CREATED:20201119T180921Z
LAST-MODIFIED:20201119T180921Z
UID:13638-1606417200-1606420800@valladolidensutinta.es
SUMMARY:Homenaje poético a Luis Marigómez
DESCRIPTION:«Bautismo de Recuerdo» que convertirá al poeta Luis Marigómez en ahijado de la Casa de Zorrilla. Actuarán como padrinos Angélica Tanarro y Jorge Praga.
URL:https://valladolidensutinta.es/agenda/homenaje-poetico-a-luis-marigomez-2/
LOCATION:Casa-Museo Zorrilla\, C/Fray Luis de Granada\, 1\, Valladolid\, Valladolid\, 47003\, España
CATEGORIES:Casa Zorrilla,Homenaje poético,Valladolid Letraherido
ATTACH;FMTTYPE=image/jpeg:https://valladolidensutinta.es/wp-content/uploads/2020/11/Luis-Marigómez.jpg
END:VEVENT
BEGIN:VEVENT
DTSTART;TZID=Europe/Madrid:20201126T190000
DTEND;TZID=Europe/Madrid:20201126T200000
DTSTAMP:20260424T061556
CREATED:20201119T180921Z
LAST-MODIFIED:20201119T180940Z
UID:9695-1606417200-1606420800@valladolidensutinta.es
SUMMARY:Homenaje poético a Luis Marigómez
DESCRIPTION:«Bautismo de Recuerdo» que convertirá al poeta Luis Marigómez en ahijado de la Casa de Zorrilla. Actuarán como padrinos Angélica Tanarro y Jorge Praga.
URL:https://valladolidensutinta.es/agenda/homenaje-poetico-a-luis-marigomez/
LOCATION:Casa-Museo Zorrilla\, C/Fray Luis de Granada\, 1\, Valladolid\, Valladolid\, 47003\, España
CATEGORIES:Casa Zorrilla,Homenaje poético,Valladolid Letraherido
ATTACH;FMTTYPE=image/jpeg:https://valladolidensutinta.es/wp-content/uploads/2020/11/Luis-Marigómez.jpg
END:VEVENT
END:VCALENDAR