BEGIN:VCALENDAR
VERSION:2.0
PRODID:-// - ECPv6.15.20//NONSGML v1.0//EN
CALSCALE:GREGORIAN
METHOD:PUBLISH
X-ORIGINAL-URL:https://valladolidensutinta.es
X-WR-CALDESC:Eventos para 
REFRESH-INTERVAL;VALUE=DURATION:PT1H
X-Robots-Tag:noindex
X-PUBLISHED-TTL:PT1H
BEGIN:VTIMEZONE
TZID:Europe/Madrid
BEGIN:DAYLIGHT
TZOFFSETFROM:+0100
TZOFFSETTO:+0200
TZNAME:CEST
DTSTART:20200329T010000
END:DAYLIGHT
BEGIN:STANDARD
TZOFFSETFROM:+0200
TZOFFSETTO:+0100
TZNAME:CET
DTSTART:20201025T010000
END:STANDARD
BEGIN:DAYLIGHT
TZOFFSETFROM:+0100
TZOFFSETTO:+0200
TZNAME:CEST
DTSTART:20210328T010000
END:DAYLIGHT
BEGIN:STANDARD
TZOFFSETFROM:+0200
TZOFFSETTO:+0100
TZNAME:CET
DTSTART:20211031T010000
END:STANDARD
BEGIN:DAYLIGHT
TZOFFSETFROM:+0100
TZOFFSETTO:+0200
TZNAME:CEST
DTSTART:20220327T010000
END:DAYLIGHT
BEGIN:STANDARD
TZOFFSETFROM:+0200
TZOFFSETTO:+0100
TZNAME:CET
DTSTART:20221030T010000
END:STANDARD
END:VTIMEZONE
BEGIN:VEVENT
DTSTART;TZID=Europe/Madrid:20210225T170000
DTEND;TZID=Europe/Madrid:20210225T180000
DTSTAMP:20260424T020812
CREATED:20210130T205214Z
LAST-MODIFIED:20210130T205214Z
UID:13661-1614272400-1614276000@valladolidensutinta.es
SUMMARY:Homenaje poético: "Bautismo de Recuerdo del poeta Javier García Riobó"
DESCRIPTION:Jueves 25. 18:00 h. Sala NAC. Reconocimiento poético: “Bautismo de Recuerdo” del poeta visual Javier García Riobó. Padrinos: Pedro Ojeda\, Luis Felipe Comendador y Mayca Martínez Peña. Aforo presencial: 18 pas. Retransmisión por internet a través del Facebook de Casa de Zorrilla.
URL:https://valladolidensutinta.es/agenda/homenaje-poetico-bautismo-de-recuerdo-del-poeta-javier-garcia-riobo-2/
LOCATION:Sala NAC/Casa de Zorrilla\, C/ Fray Luis de Granada 1\, Valladolid\, 47003
CATEGORIES:Casa Zorrilla,Homenaje poético,Valladolid Letraherido
ATTACH;FMTTYPE=image/jpeg:https://valladolidensutinta.es/wp-content/uploads/2021/01/Jueves-25-Bautismo-de-recuerdo.jpg
END:VEVENT
BEGIN:VEVENT
DTSTART;TZID=Europe/Madrid:20210225T170000
DTEND;TZID=Europe/Madrid:20210225T180000
DTSTAMP:20260424T020812
CREATED:20210130T205214Z
LAST-MODIFIED:20210130T205222Z
UID:10007-1614272400-1614276000@valladolidensutinta.es
SUMMARY:Homenaje poético: "Bautismo de Recuerdo del poeta Javier García Riobó"
DESCRIPTION:Jueves 25. 18:00 h. Sala NAC. Reconocimiento poético: “Bautismo de Recuerdo” del poeta visual Javier García Riobó. Padrinos: Pedro Ojeda\, Luis Felipe Comendador y Mayca Martínez Peña. Aforo presencial: 18 pas. Retransmisión por internet a través del Facebook de Casa de Zorrilla.
URL:https://valladolidensutinta.es/agenda/homenaje-poetico-bautismo-de-recuerdo-del-poeta-javier-garcia-riobo/
LOCATION:Sala NAC/Casa de Zorrilla\, C/ Fray Luis de Granada 1\, Valladolid\, 47003
CATEGORIES:Casa Zorrilla,Homenaje poético,Valladolid Letraherido
ATTACH;FMTTYPE=image/jpeg:https://valladolidensutinta.es/wp-content/uploads/2021/01/Jueves-25-Bautismo-de-recuerdo.jpg
END:VEVENT
END:VCALENDAR