BEGIN:VCALENDAR
VERSION:2.0
PRODID:-// - ECPv6.15.20//NONSGML v1.0//EN
CALSCALE:GREGORIAN
METHOD:PUBLISH
X-ORIGINAL-URL:https://valladolidensutinta.es
X-WR-CALDESC:Eventos para 
REFRESH-INTERVAL;VALUE=DURATION:PT1H
X-Robots-Tag:noindex
X-PUBLISHED-TTL:PT1H
BEGIN:VTIMEZONE
TZID:Europe/Madrid
BEGIN:DAYLIGHT
TZOFFSETFROM:+0100
TZOFFSETTO:+0200
TZNAME:CEST
DTSTART:20200329T010000
END:DAYLIGHT
BEGIN:STANDARD
TZOFFSETFROM:+0200
TZOFFSETTO:+0100
TZNAME:CET
DTSTART:20201025T010000
END:STANDARD
BEGIN:DAYLIGHT
TZOFFSETFROM:+0100
TZOFFSETTO:+0200
TZNAME:CEST
DTSTART:20210328T010000
END:DAYLIGHT
BEGIN:STANDARD
TZOFFSETFROM:+0200
TZOFFSETTO:+0100
TZNAME:CET
DTSTART:20211031T010000
END:STANDARD
BEGIN:DAYLIGHT
TZOFFSETFROM:+0100
TZOFFSETTO:+0200
TZNAME:CEST
DTSTART:20220327T010000
END:DAYLIGHT
BEGIN:STANDARD
TZOFFSETFROM:+0200
TZOFFSETTO:+0100
TZNAME:CET
DTSTART:20221030T010000
END:STANDARD
END:VTIMEZONE
BEGIN:VEVENT
DTSTART;TZID=Europe/Madrid:20211222T190000
DTEND;TZID=Europe/Madrid:20211222T190000
DTSTAMP:20260423T124650
CREATED:20211124T090815Z
LAST-MODIFIED:20211124T131943Z
UID:11267-1640199600-1640199600@valladolidensutinta.es
SUMMARY:Memorial: Arcadio Pardo\, el poeta de la palabra precisa (1928-2021)
DESCRIPTION:El programa «Valladolid Letraherido» convoca el recital «Arcadio Pardo\, el poeta de la palabra precisa (1928-2021). In memoriam«. La semblanza del poeta será trazada por María Eugenia Matía Amor; y sus poemas leídos por Juan Pardo\, Carlos Aganzo\, Angélica Tanarro\, Luis Marigómez\, Charo Vergaz\, David Pujante\, Javier Dámaso\, Pedro Ojeda y Paz Altés. Aforo presencial 28 pas. Retransmisión en directo por internet a través del Facebook de la Casa de Zorrilla.
URL:https://valladolidensutinta.es/agenda/memorial-arcadio-pardo-el-poeta-de-la-palabra-precisa-1928-2021/
CATEGORIES:Casa Zorrilla,Homenaje poético,Recital,Valladolid Letraherido
ATTACH;FMTTYPE=image/jpeg:https://valladolidensutinta.es/wp-content/uploads/2021/11/22-diciembre-Arcadio-Pardo.jpg
END:VEVENT
BEGIN:VEVENT
DTSTART;TZID=Europe/Madrid:20211222T190000
DTEND;TZID=Europe/Madrid:20211222T190000
DTSTAMP:20260423T124650
CREATED:20211124T090815Z
LAST-MODIFIED:20211124T090815Z
UID:13842-1640199600-1640199600@valladolidensutinta.es
SUMMARY:Memorial: Arcadio Pardo\, el poeta de la palabra precisa (1928-2021)
DESCRIPTION:El programa «Valladolid Letraherido» convoca el recital «Arcadio Pardo\, el poeta de la palabra precisa (1928-2021). In memoriam«. La semblanza del poeta será trazada por María Eugenia Matía Amor; y sus poemas leídos por Juan Pardo\, Carlos Aganzo\, Angélica Tanarro\, Luis Marigómez\, Charo Vergaz\, David Pujante\, Javier Dámaso\, Pedro Ojeda y Paz Altés. Aforo presencial 28 pas. Retransmisión en directo por internet a través del Facebook de la Casa de Zorrilla.
URL:https://valladolidensutinta.es/agenda/memorial-arcadio-pardo-el-poeta-de-la-palabra-precisa-1928-2021-2/
CATEGORIES:Casa Zorrilla,Homenaje poético,Recital,Valladolid Letraherido
ATTACH;FMTTYPE=image/jpeg:https://valladolidensutinta.es/wp-content/uploads/2021/11/22-diciembre-Arcadio-Pardo.jpg
END:VEVENT
END:VCALENDAR