BEGIN:VCALENDAR
VERSION:2.0
PRODID:-// - ECPv6.15.20//NONSGML v1.0//EN
CALSCALE:GREGORIAN
METHOD:PUBLISH
X-ORIGINAL-URL:https://valladolidensutinta.es
X-WR-CALDESC:Eventos para 
REFRESH-INTERVAL;VALUE=DURATION:PT1H
X-Robots-Tag:noindex
X-PUBLISHED-TTL:PT1H
BEGIN:VTIMEZONE
TZID:Europe/Madrid
BEGIN:DAYLIGHT
TZOFFSETFROM:+0100
TZOFFSETTO:+0200
TZNAME:CEST
DTSTART:20210328T010000
END:DAYLIGHT
BEGIN:STANDARD
TZOFFSETFROM:+0200
TZOFFSETTO:+0100
TZNAME:CET
DTSTART:20211031T010000
END:STANDARD
BEGIN:DAYLIGHT
TZOFFSETFROM:+0100
TZOFFSETTO:+0200
TZNAME:CEST
DTSTART:20220327T010000
END:DAYLIGHT
BEGIN:STANDARD
TZOFFSETFROM:+0200
TZOFFSETTO:+0100
TZNAME:CET
DTSTART:20221030T010000
END:STANDARD
BEGIN:DAYLIGHT
TZOFFSETFROM:+0100
TZOFFSETTO:+0200
TZNAME:CEST
DTSTART:20230326T010000
END:DAYLIGHT
BEGIN:STANDARD
TZOFFSETFROM:+0200
TZOFFSETTO:+0100
TZNAME:CET
DTSTART:20231029T010000
END:STANDARD
END:VTIMEZONE
BEGIN:VEVENT
DTSTART;TZID=Europe/Madrid:20221117T190000
DTEND;TZID=Europe/Madrid:20221117T200000
DTSTAMP:20260422T183821
CREATED:20221117T131323Z
LAST-MODIFIED:20221117T131420Z
UID:12123-1668711600-1668715200@valladolidensutinta.es
SUMMARY:Recital de poesía: "Vivir...\, amar...\, sentir. Antología poética de Matilde Camus"
DESCRIPTION:La Casa de Zorrilla acoge la presentación-recital «Vivir…\, amar…\, sentir»\, dedicado a la poeta cántabra Matilde Camus\, académica correspondiente que fuera de la Real Academia de Bellas Artes de Valladolid. Presenta y recita: Matilde Guisández Gómez. Interviene: Jesús Urrea (Real Academia de Bellas Artes de la Purísima Concepción de Valladolid». Entrada libre hasta completar aforo: 45 pas. Retransmisión en directo a través del Facebook de la Casa de Zorrilla.
URL:https://valladolidensutinta.es/agenda/recital-de-poesia-vivir-amar-sentir-antologia-poetica-de-matilde-camus/
CATEGORIES:Casa Zorrilla,Homenaje poético,Recital
ATTACH;FMTTYPE=image/jpeg:https://valladolidensutinta.es/wp-content/uploads/2022/11/Vivir-Amar-Sentir-Matilde-Camus-e1668686761195.jpg
END:VEVENT
BEGIN:VEVENT
DTSTART;TZID=Europe/Madrid:20221117T190000
DTEND;TZID=Europe/Madrid:20221117T200000
DTSTAMP:20260422T183822
CREATED:20221117T131323Z
LAST-MODIFIED:20221117T131323Z
UID:13964-1668711600-1668715200@valladolidensutinta.es
SUMMARY:Recital de poesía: "Vivir...\, amar...\, sentir. Antología poética de Matilde Camus"
DESCRIPTION:La Casa de Zorrilla acoge la presentación-recital «Vivir…\, amar…\, sentir»\, dedicado a la poeta cántabra Matilde Camus\, académica correspondiente que fuera de la Real Academia de Bellas Artes de Valladolid. Presenta y recita: Matilde Guisández Gómez. Interviene: Jesús Urrea (Real Academia de Bellas Artes de la Purísima Concepción de Valladolid». Entrada libre hasta completar aforo: 45 pas. Retransmisión en directo a través del Facebook de la Casa de Zorrilla.
URL:https://valladolidensutinta.es/agenda/recital-de-poesia-vivir-amar-sentir-antologia-poetica-de-matilde-camus-2/
CATEGORIES:Casa Zorrilla,Homenaje poético,Recital
ATTACH;FMTTYPE=image/jpeg:https://valladolidensutinta.es/wp-content/uploads/2022/11/Vivir-Amar-Sentir-Matilde-Camus-e1668686761195.jpg
END:VEVENT
END:VCALENDAR