BEGIN:VCALENDAR
VERSION:2.0
PRODID:-// - ECPv6.15.20//NONSGML v1.0//EN
CALSCALE:GREGORIAN
METHOD:PUBLISH
X-ORIGINAL-URL:https://valladolidensutinta.es
X-WR-CALDESC:Eventos para 
REFRESH-INTERVAL;VALUE=DURATION:PT1H
X-Robots-Tag:noindex
X-PUBLISHED-TTL:PT1H
BEGIN:VTIMEZONE
TZID:Europe/Madrid
BEGIN:DAYLIGHT
TZOFFSETFROM:+0100
TZOFFSETTO:+0200
TZNAME:CEST
DTSTART:20200329T010000
END:DAYLIGHT
BEGIN:STANDARD
TZOFFSETFROM:+0200
TZOFFSETTO:+0100
TZNAME:CET
DTSTART:20201025T010000
END:STANDARD
BEGIN:DAYLIGHT
TZOFFSETFROM:+0100
TZOFFSETTO:+0200
TZNAME:CEST
DTSTART:20210328T010000
END:DAYLIGHT
BEGIN:STANDARD
TZOFFSETFROM:+0200
TZOFFSETTO:+0100
TZNAME:CET
DTSTART:20211031T010000
END:STANDARD
BEGIN:DAYLIGHT
TZOFFSETFROM:+0100
TZOFFSETTO:+0200
TZNAME:CEST
DTSTART:20220327T010000
END:DAYLIGHT
BEGIN:STANDARD
TZOFFSETFROM:+0200
TZOFFSETTO:+0100
TZNAME:CET
DTSTART:20221030T010000
END:STANDARD
END:VTIMEZONE
BEGIN:VEVENT
DTSTART;TZID=Europe/Madrid:20210526T190000
DTEND;TZID=Europe/Madrid:20210526T200000
DTSTAMP:20260423T232436
CREATED:20210502T124121Z
LAST-MODIFIED:20210502T124144Z
UID:10364-1622055600-1622059200@valladolidensutinta.es
SUMMARY:Encuentro con el autor: "La poesía visual de David Acebes"
DESCRIPTION:Valladolid Letraherido acoge este encuentro con el poeta David Acebes\, autor de poemas textuales y visuales\, para conversar con el codirector del programa\, Pedro Ojeda Escudero\, en torno a su faceta de poeta visual. Aforo presencial: 18 pas. Retransmisión en director por internet a través del Facebook de la Casa de Zorrilla.
URL:https://valladolidensutinta.es/agenda/encuentro-con-el-autor-la-poesia-visual-de-david-acebes/
LOCATION:Sala NAC/Casa de Zorrilla\, C/ Fray Luis de Granada 1\, Valladolid\, 47003
CATEGORIES:Casa Zorrilla,Homenaje poético,Valladolid Letraherido
ATTACH;FMTTYPE=image/jpeg:https://valladolidensutinta.es/wp-content/uploads/2021/05/26-David-Acebes.jpg
END:VEVENT
END:VCALENDAR