BEGIN:VCALENDAR
VERSION:2.0
PRODID:-// - ECPv6.15.20//NONSGML v1.0//EN
CALSCALE:GREGORIAN
METHOD:PUBLISH
X-ORIGINAL-URL:https://valladolidensutinta.es
X-WR-CALDESC:Eventos para 
REFRESH-INTERVAL;VALUE=DURATION:PT1H
X-Robots-Tag:noindex
X-PUBLISHED-TTL:PT1H
BEGIN:VTIMEZONE
TZID:Europe/Madrid
BEGIN:DAYLIGHT
TZOFFSETFROM:+0100
TZOFFSETTO:+0200
TZNAME:CEST
DTSTART:20200329T010000
END:DAYLIGHT
BEGIN:STANDARD
TZOFFSETFROM:+0200
TZOFFSETTO:+0100
TZNAME:CET
DTSTART:20201025T010000
END:STANDARD
BEGIN:DAYLIGHT
TZOFFSETFROM:+0100
TZOFFSETTO:+0200
TZNAME:CEST
DTSTART:20210328T010000
END:DAYLIGHT
BEGIN:STANDARD
TZOFFSETFROM:+0200
TZOFFSETTO:+0100
TZNAME:CET
DTSTART:20211031T010000
END:STANDARD
BEGIN:DAYLIGHT
TZOFFSETFROM:+0100
TZOFFSETTO:+0200
TZNAME:CEST
DTSTART:20220327T010000
END:DAYLIGHT
BEGIN:STANDARD
TZOFFSETFROM:+0200
TZOFFSETTO:+0100
TZNAME:CET
DTSTART:20221030T010000
END:STANDARD
END:VTIMEZONE
BEGIN:VEVENT
DTSTART;TZID=Europe/Madrid:20210527T190000
DTEND;TZID=Europe/Madrid:20210527T200000
DTSTAMP:20260423T232435
CREATED:20210502T124942Z
LAST-MODIFIED:20210524T072930Z
UID:10367-1622142000-1622145600@valladolidensutinta.es
SUMMARY:CANCELADO. Homenaje poético: "Bautismo de Recuerdo" del empresario teatral Enrique Cornejo
DESCRIPTION:Valladolid Letraherido y la Casa de Zorrilla promueven el «Bautismo de Recuerdo» del empresario teatral Enrique Cornejo\, titular del Teatro Zorrilla de Valladolid (Diputación Provincial) y máximo valedor del mantenimiento de las tradicionales representaciones de Don Juan Tenorio a comienzos del mes de noviembre\, en torno a la festividad de Todos los Santos. En esta «ceremonia»\, la Casa de Zorrilla recibirá a Enrique Cornejo como ahijado de pro. Aforo presencial: 18 pas. Retransmisión en director por internet a través del Facebook de Casa de Zorrilla.
URL:https://valladolidensutinta.es/agenda/homenaje-poetico-bautismo-de-recuerdo-del-empresario-teatral-enrique-cornejo/
LOCATION:Sala NAC/Casa de Zorrilla\, C/ Fray Luis de Granada 1\, Valladolid\, 47003
CATEGORIES:Casa Zorrilla,Homenaje poético,Valladolid Letraherido
ATTACH;FMTTYPE=image/jpeg:https://valladolidensutinta.es/wp-content/uploads/2021/05/27-Bautismo-Enrique-Cornejo.jpg
END:VEVENT
END:VCALENDAR