BEGIN:VCALENDAR
VERSION:2.0
PRODID:-// - ECPv6.15.20//NONSGML v1.0//EN
CALSCALE:GREGORIAN
METHOD:PUBLISH
X-ORIGINAL-URL:https://valladolidensutinta.es
X-WR-CALDESC:Eventos para 
REFRESH-INTERVAL;VALUE=DURATION:PT1H
X-Robots-Tag:noindex
X-PUBLISHED-TTL:PT1H
BEGIN:VTIMEZONE
TZID:Europe/Madrid
BEGIN:DAYLIGHT
TZOFFSETFROM:+0100
TZOFFSETTO:+0200
TZNAME:CEST
DTSTART:20220327T010000
END:DAYLIGHT
BEGIN:STANDARD
TZOFFSETFROM:+0200
TZOFFSETTO:+0100
TZNAME:CET
DTSTART:20221030T010000
END:STANDARD
BEGIN:DAYLIGHT
TZOFFSETFROM:+0100
TZOFFSETTO:+0200
TZNAME:CEST
DTSTART:20230326T010000
END:DAYLIGHT
BEGIN:STANDARD
TZOFFSETFROM:+0200
TZOFFSETTO:+0100
TZNAME:CET
DTSTART:20231029T010000
END:STANDARD
BEGIN:DAYLIGHT
TZOFFSETFROM:+0100
TZOFFSETTO:+0200
TZNAME:CEST
DTSTART:20240331T010000
END:DAYLIGHT
BEGIN:STANDARD
TZOFFSETFROM:+0200
TZOFFSETTO:+0100
TZNAME:CET
DTSTART:20241027T010000
END:STANDARD
END:VTIMEZONE
BEGIN:VEVENT
DTSTART;TZID=Europe/Madrid:20230516T190000
DTEND;TZID=Europe/Madrid:20230516T200000
DTSTAMP:20260422T115649
CREATED:20230506T084138Z
LAST-MODIFIED:20230506T084157Z
UID:12445-1684263600-1684267200@valladolidensutinta.es
SUMMARY:Recital de poesía: "Cantar a Valladolid y a sus grandes"\, a cargo de Ángel María de Pablos
DESCRIPTION:La Casa de Zorrilla acoge el recital de poesía: Cantar a Valladolid y a sus “grandes”\, de Ángel María de Pablos. Presenta: Paz Altés Melgar. Entrada libre hasta completar aforo: 45 pas. Retransmisión en directo: Facebook de la Casa de Zorrilla.
URL:https://valladolidensutinta.es/agenda/recital-de-poesia-cantar-a-valladolid-y-a-sus-grandes-a-cargo-de-angel-maria-de-pablos/
CATEGORIES:Casa Zorrilla,Homenaje poético,Recital
ATTACH;FMTTYPE=image/jpeg:https://valladolidensutinta.es/wp-content/uploads/2023/05/16-Angel-Maria-de-Pablos.jpg
END:VEVENT
BEGIN:VEVENT
DTSTART;TZID=Europe/Madrid:20230516T190000
DTEND;TZID=Europe/Madrid:20230516T200000
DTSTAMP:20260422T115649
CREATED:20230506T084138Z
LAST-MODIFIED:20230506T084138Z
UID:14033-1684263600-1684267200@valladolidensutinta.es
SUMMARY:Recital de poesía: "Cantar a Valladolid y a sus grandes"\, a cargo de Ángel María de Pablos
DESCRIPTION:La Casa de Zorrilla acoge el recital de poesía: Cantar a Valladolid y a sus “grandes”\, de Ángel María de Pablos. Presenta: Paz Altés Melgar. Entrada libre hasta completar aforo: 45 pas. Retransmisión en directo: Facebook de la Casa de Zorrilla.
URL:https://valladolidensutinta.es/agenda/recital-de-poesia-cantar-a-valladolid-y-a-sus-grandes-a-cargo-de-angel-maria-de-pablos-2/
CATEGORIES:Casa Zorrilla,Homenaje poético,Recital
ATTACH;FMTTYPE=image/jpeg:https://valladolidensutinta.es/wp-content/uploads/2023/05/16-Angel-Maria-de-Pablos.jpg
END:VEVENT
END:VCALENDAR