BEGIN:VCALENDAR
VERSION:2.0
PRODID:-// - ECPv6.15.20//NONSGML v1.0//EN
CALSCALE:GREGORIAN
METHOD:PUBLISH
X-ORIGINAL-URL:https://valladolidensutinta.es
X-WR-CALDESC:Eventos para 
REFRESH-INTERVAL;VALUE=DURATION:PT1H
X-Robots-Tag:noindex
X-PUBLISHED-TTL:PT1H
BEGIN:VTIMEZONE
TZID:Europe/Madrid
BEGIN:DAYLIGHT
TZOFFSETFROM:+0100
TZOFFSETTO:+0200
TZNAME:CEST
DTSTART:20210328T010000
END:DAYLIGHT
BEGIN:STANDARD
TZOFFSETFROM:+0200
TZOFFSETTO:+0100
TZNAME:CET
DTSTART:20211031T010000
END:STANDARD
BEGIN:DAYLIGHT
TZOFFSETFROM:+0100
TZOFFSETTO:+0200
TZNAME:CEST
DTSTART:20220327T010000
END:DAYLIGHT
BEGIN:STANDARD
TZOFFSETFROM:+0200
TZOFFSETTO:+0100
TZNAME:CET
DTSTART:20221030T010000
END:STANDARD
BEGIN:DAYLIGHT
TZOFFSETFROM:+0100
TZOFFSETTO:+0200
TZNAME:CEST
DTSTART:20230326T010000
END:DAYLIGHT
BEGIN:STANDARD
TZOFFSETFROM:+0200
TZOFFSETTO:+0100
TZNAME:CET
DTSTART:20231029T010000
END:STANDARD
END:VTIMEZONE
BEGIN:VEVENT
DTSTART;TZID=Europe/Madrid:20220326T100000
DTEND;TZID=Europe/Madrid:20220326T130000
DTSTAMP:20260423T202306
CREATED:20220314T125148Z
LAST-MODIFIED:20220314T125148Z
UID:13858-1648288800-1648299600@valladolidensutinta.es
SUMMARY:Tradicional lectura participativa de "Don Juan Tenorio"
DESCRIPTION:Sábado 26. Sala “Francisco de Cossío”. 11:00 h. Lectura participativa de Don Juan Tenorio\, de José Zorrilla\, con motivo del 178 aniversario del estreno de la obra en el Teatro de la Cruz de Madrid. Colabora: Asociación “Amigos del Teatro de Valladolid”. El acto se iniciará con la lectura del manifiesto del Día Mundial del Teatro 2022 a cargo de Ana Redondo\, concejala de Cultura y Turismo del Ayuntamiento de Valladolid. \nRecogida de libretos para participar en la lectura en Casa de Zorrilla (horario habitual)\, a partir del martes 1 de marzo. Todos los participantes recibirán un obsequio conmemorativo. \n 
URL:https://valladolidensutinta.es/agenda/tradicional-lectura-participativa-de-don-juan-tenorio-2/
LOCATION:Sala «Francisco de Cossío»\, Casa Revilla\, C/ Torrecilla\, 5\, Valladolid
CATEGORIES:Casa Revilla,Casa Zorrilla,Narración oral,Teatro
ATTACH;FMTTYPE=image/jpeg:https://valladolidensutinta.es/wp-content/uploads/2022/03/26-Lectura-Don-Juan-Tenorio-1.jpg
END:VEVENT
BEGIN:VEVENT
DTSTART;TZID=Europe/Madrid:20220326T100000
DTEND;TZID=Europe/Madrid:20220326T130000
DTSTAMP:20260423T202306
CREATED:20220314T125148Z
LAST-MODIFIED:20220314T125214Z
UID:11406-1648288800-1648299600@valladolidensutinta.es
SUMMARY:Tradicional lectura participativa de "Don Juan Tenorio"
DESCRIPTION:Sábado 26. Sala “Francisco de Cossío”. 11:00 h. Lectura participativa de Don Juan Tenorio\, de José Zorrilla\, con motivo del 178 aniversario del estreno de la obra en el Teatro de la Cruz de Madrid. Colabora: Asociación “Amigos del Teatro de Valladolid”. El acto se iniciará con la lectura del manifiesto del Día Mundial del Teatro 2022 a cargo de Ana Redondo\, concejala de Cultura y Turismo del Ayuntamiento de Valladolid. \nRecogida de libretos para participar en la lectura en Casa de Zorrilla (horario habitual)\, a partir del martes 1 de marzo. Todos los participantes recibirán un obsequio conmemorativo. \n 
URL:https://valladolidensutinta.es/agenda/tradicional-lectura-participativa-de-don-juan-tenorio/
LOCATION:Sala «Francisco de Cossío»\, Casa Revilla\, C/ Torrecilla\, 5\, Valladolid
CATEGORIES:Casa Revilla,Casa Zorrilla,Narración oral,Teatro
ATTACH;FMTTYPE=image/jpeg:https://valladolidensutinta.es/wp-content/uploads/2022/03/26-Lectura-Don-Juan-Tenorio-1.jpg
END:VEVENT
END:VCALENDAR