BEGIN:VCALENDAR
VERSION:2.0
PRODID:-// - ECPv6.15.20//NONSGML v1.0//EN
CALSCALE:GREGORIAN
METHOD:PUBLISH
X-ORIGINAL-URL:https://valladolidensutinta.es
X-WR-CALDESC:Eventos para 
REFRESH-INTERVAL;VALUE=DURATION:PT1H
X-Robots-Tag:noindex
X-PUBLISHED-TTL:PT1H
BEGIN:VTIMEZONE
TZID:Europe/Madrid
BEGIN:DAYLIGHT
TZOFFSETFROM:+0100
TZOFFSETTO:+0200
TZNAME:CEST
DTSTART:20210328T010000
END:DAYLIGHT
BEGIN:STANDARD
TZOFFSETFROM:+0200
TZOFFSETTO:+0100
TZNAME:CET
DTSTART:20211031T010000
END:STANDARD
BEGIN:DAYLIGHT
TZOFFSETFROM:+0100
TZOFFSETTO:+0200
TZNAME:CEST
DTSTART:20220327T010000
END:DAYLIGHT
BEGIN:STANDARD
TZOFFSETFROM:+0200
TZOFFSETTO:+0100
TZNAME:CET
DTSTART:20221030T010000
END:STANDARD
BEGIN:DAYLIGHT
TZOFFSETFROM:+0100
TZOFFSETTO:+0200
TZNAME:CEST
DTSTART:20230326T010000
END:DAYLIGHT
BEGIN:STANDARD
TZOFFSETFROM:+0200
TZOFFSETTO:+0100
TZNAME:CET
DTSTART:20231029T010000
END:STANDARD
END:VTIMEZONE
BEGIN:VEVENT
DTSTART;TZID=Europe/Madrid:20220904T200000
DTEND;TZID=Europe/Madrid:20220904T213000
DTSTAMP:20260423T105007
CREATED:20220809T080215Z
LAST-MODIFIED:20220809T080237Z
UID:11840-1662321600-1662327000@valladolidensutinta.es
SUMMARY:TIEMPO DE FERIA. Teatro: "Cuerdas"\, a cargo de Tiramisú Teatro
DESCRIPTION:Es «Tiempo de Feria» en la Casa del Poeta. El jardín romántico de la Casa de Zorrilla acoge la representación de la obra «Cuerdas»\, de Bárbara Colio;  a cargo de la compañía Tiramisú Teatro y bajo la dirección de Manu Requejo. Entrada con invitación. Recogida en Casa de Zorrilla (horario habitual) a partir del 20 de agosto. Máx. 2 por persona.
URL:https://valladolidensutinta.es/agenda/tiempo-de-feria-teatro-cuerdas-a-cargo-de-tiramisu-teatro/
LOCATION:Casa de Zorrilla/Jardín romántico
CATEGORIES:Casa Zorrilla,Teatro
ATTACH;FMTTYPE=image/jpeg:https://valladolidensutinta.es/wp-content/uploads/2022/08/09-04-Tiramisu-Teatro.jpg
END:VEVENT
BEGIN:VEVENT
DTSTART;TZID=Europe/Madrid:20220905T200000
DTEND;TZID=Europe/Madrid:20220905T213000
DTSTAMP:20260423T105007
CREATED:20220809T080934Z
LAST-MODIFIED:20220809T081005Z
UID:11845-1662408000-1662413400@valladolidensutinta.es
SUMMARY:TIEMPO DE FERIA. Teatro: "Las guerras de nuestros antepasados" (Miguel Delibes)\, a cargo de La Quimera de Plástico.
DESCRIPTION:Es «Tiempo de Feria» en la Casa del Poeta. El jardín romántico de la Casa de Zorrilla acoge la representación de la obra «Las guerras de nuestros antepasados»\, adaptación de la novela homónima del vallisoletano Miguel Delibes; a cargo de La Quimera de Plástico. Entrada con invitación. Recogida en Casa de Zorrilla (horario habitual) a partir del 20 de agosto. Máx. 2 por persona.
URL:https://valladolidensutinta.es/agenda/tiempo-de-feria-teatro-las-guerras-de-nuestros-antepasados-miguel-delibes-a-cargo-de-la-quimera-de-plastico/
LOCATION:Casa de Zorrilla/Jardín romántico
CATEGORIES:Casa Zorrilla,Teatro
ATTACH;FMTTYPE=image/jpeg:https://valladolidensutinta.es/wp-content/uploads/2022/08/09-5-y-6-La-quimera-de-plastico.jpeg
END:VEVENT
BEGIN:VEVENT
DTSTART;TZID=Europe/Madrid:20220910T200000
DTEND;TZID=Europe/Madrid:20220910T210000
DTSTAMP:20260423T105007
CREATED:20220809T101524Z
LAST-MODIFIED:20220809T101552Z
UID:11862-1662840000-1662843600@valladolidensutinta.es
SUMMARY:TIEMPO DE FERIA. Teatro: "Los niños de Morelia"\, a cargo del elenco infantil de Asociación Mexicanos en Castilla y León
DESCRIPTION:Es «Tiempo de Feria» en la Casa del Poeta y el jardín de la Casa Zorrilla acoge la representación teatral de la obra «Los niños de Morelia»\, a cargo del elenco infantil de la Asociación de Mexicanos en Castilla y León; en colaboración con Espacio Escénico «La Bien Pagá». Acceso con invitación. Recogida de invitaciones en Casa de Zorrilla (horario habitual)\, a partir del 20 de agosto. Máximo 2 por persona.
URL:https://valladolidensutinta.es/agenda/tiempo-de-feria-teatro-los-ninos-de-morelia-a-cargo-del-elenco-infantil-de-asociacion-mexicanos-en-castilla-y-leon/
LOCATION:Casa de Zorrilla/Jardín romántico
CATEGORIES:Casa Zorrilla,Teatro
ATTACH;FMTTYPE=image/jpeg:https://valladolidensutinta.es/wp-content/uploads/2022/08/Cartel-e1660040047166.jpg
END:VEVENT
BEGIN:VEVENT
DTSTART;TZID=Europe/Madrid:20220911T200000
DTEND;TZID=Europe/Madrid:20220911T210000
DTSTAMP:20260423T105007
CREATED:20220809T102914Z
LAST-MODIFIED:20220809T102925Z
UID:11865-1662926400-1662930000@valladolidensutinta.es
SUMMARY:TIEMPO DE FERIA. Teatro "Fin de Feria": "El premio de Nicanor o A quién le doy la suerte" y "Mañana de Sol"\, a cargo de Grupo Tú y Yo
DESCRIPTION:El «Tiempo de Feria» llega a su fin y\, para clausurarlo\, el jardín romántico programa la actuación teatral del Grupo «Tú y Yo»\, integrado por Lita Barnés\, José Luis García Oliveros y Vicente Zautúa; que pondrán en escena dos obras: «El premio de Nicanor o A quién le doy la suerte»\, de Carlos Arniches; y «Mañana de sol»\, de los Hermanos Álvarez Quintero. Entrada con invitación. Recogida de invitaciones en la Casa de Zorrilla (horario habitual)\, a partir del 20 de agosto.
URL:https://valladolidensutinta.es/agenda/tiempo-de-feria-teatro-fin-de-feria-el-premio-de-nicanor-o-a-quien-le-doy-la-suerte-y-manana-de-sol-a-cargo-de-grupo-tu-y-yo/
LOCATION:Casa de Zorrilla/Jardín romántico
CATEGORIES:Casa Zorrilla,Teatro
ATTACH;FMTTYPE=image/jpeg:https://valladolidensutinta.es/wp-content/uploads/2022/08/09-11-Grupo-tu-y-yo.jpg
END:VEVENT
BEGIN:VEVENT
DTSTART;TZID=Europe/Madrid:20220926T170000
DTEND;TZID=Europe/Madrid:20220926T183000
DTSTAMP:20260423T105007
CREATED:20220811T101731Z
LAST-MODIFIED:20220811T101816Z
UID:11928-1664211600-1664217000@valladolidensutinta.es
SUMMARY:Teatro: Espectáculos fin de curso "Espacio Escénico La Bien Pagá". Grupos infantiles: "El mago de Oz"\, "Alicia en el país de las maravillas" y "Los mundos de Coraline"
DESCRIPTION:El jardín romántico de la Casa de Zorrilla programa la sesión de teatro\, aplazada por causas climatológicas\, en la que los grupos infantiles del Espacio Escénico La Bien Pagá\, pondrán en escena sus trabajos de fin del curso 2021-2022: «El mago de Oz»\, «Alicia en el país de las maravillas» y «Los mundos de Coraline». Recogida de invitaciones en Casa de Zorrilla (horario habitual). \n\nInvitaciones para actores y actrices de los elencos. Máx. 3 por actor/actriz. Recogida de invitaciones del 20 de agosto al 10 de septiembre.\nInvitaciones restantes (público general). Máx. 2 por persona. Recogida de invitaciones a partir del 13 de septiembre.
URL:https://valladolidensutinta.es/agenda/teatro-espectaculos-fin-de-curso-espacio-escenico-la-bien-paga-grupos-infantiles-el-mago-de-oz-alicia-en-el-pais-de-las-maravillas-y-los-mundos-de-coraline/
LOCATION:Casa de Zorrilla/Jardín romántico
CATEGORIES:Casa Zorrilla,Teatro
ATTACH;FMTTYPE=image/jpeg:https://valladolidensutinta.es/wp-content/uploads/2022/08/Dia-28-Foto-2-IMG_8136.jpg
END:VEVENT
BEGIN:VEVENT
DTSTART;TZID=Europe/Madrid:20220927T190000
DTEND;TZID=Europe/Madrid:20220927T203000
DTSTAMP:20260423T105007
CREATED:20220811T102439Z
LAST-MODIFIED:20220811T102509Z
UID:11931-1664305200-1664310600@valladolidensutinta.es
SUMMARY:Teatro. Espectáculos fin de curso Espacio Escénico La Bien Pagá. Grupo de adultos: "Tito Andrónico".
DESCRIPTION:El jardín romántico de la Casa de Zorrilla programa la sesión de teatro\, aplazada por causas sanitarias\, en la que el grupo de adultos que no pudo actuar en el mes de junio pondrá en escena su trabajo de fin del curso 2021-2022 en Espacio Escénico «La Bien Pagá». Título del montaje: «Tito Andrónico». Recogida de invitaciones en Casa de Zorrilla (horario habitual)\, a partir del 20 de agosto (máx. 2 por persona).
URL:https://valladolidensutinta.es/agenda/teatro-espectaculos-fin-de-curso-espacio-escenico-la-bien-paga-grupo-de-adultos-tito-andronico/
LOCATION:Casa de Zorrilla/Jardín romántico
CATEGORIES:Casa Zorrilla,Teatro
ATTACH;FMTTYPE=image/jpeg:https://valladolidensutinta.es/wp-content/uploads/2022/08/Dia-28-IMG_8134.jpg
END:VEVENT
END:VCALENDAR