BEGIN:VCALENDAR
VERSION:2.0
PRODID:-// - ECPv6.15.20//NONSGML v1.0//EN
CALSCALE:GREGORIAN
METHOD:PUBLISH
X-ORIGINAL-URL:https://valladolidensutinta.es
X-WR-CALDESC:Eventos para 
REFRESH-INTERVAL;VALUE=DURATION:PT1H
X-Robots-Tag:noindex
X-PUBLISHED-TTL:PT1H
BEGIN:VTIMEZONE
TZID:Europe/Madrid
BEGIN:DAYLIGHT
TZOFFSETFROM:+0100
TZOFFSETTO:+0200
TZNAME:CEST
DTSTART:20220327T010000
END:DAYLIGHT
BEGIN:STANDARD
TZOFFSETFROM:+0200
TZOFFSETTO:+0100
TZNAME:CET
DTSTART:20221030T010000
END:STANDARD
BEGIN:DAYLIGHT
TZOFFSETFROM:+0100
TZOFFSETTO:+0200
TZNAME:CEST
DTSTART:20230326T010000
END:DAYLIGHT
BEGIN:STANDARD
TZOFFSETFROM:+0200
TZOFFSETTO:+0100
TZNAME:CET
DTSTART:20231029T010000
END:STANDARD
BEGIN:DAYLIGHT
TZOFFSETFROM:+0100
TZOFFSETTO:+0200
TZNAME:CEST
DTSTART:20240331T010000
END:DAYLIGHT
BEGIN:STANDARD
TZOFFSETFROM:+0200
TZOFFSETTO:+0100
TZNAME:CET
DTSTART:20241027T010000
END:STANDARD
END:VTIMEZONE
BEGIN:VEVENT
DTSTART;TZID=Europe/Madrid:20230902T203000
DTEND;TZID=Europe/Madrid:20230902T220000
DTSTAMP:20260422T121504
CREATED:20230821T100344Z
LAST-MODIFIED:20230831T113557Z
UID:12709-1693686600-1693692000@valladolidensutinta.es
SUMMARY:APLAZADO POR CLIMATOLOGÍA ADVERSA. TEATRO: "El cartógrafo" (de Juan Mayorga). Compañía "Tiramisú"
DESCRIPTION:APLAZADO AL MARTES 12 DE SEPTIEMBRE\, 21:00 H. No es preciso canjear las invitaciones. Si desiste de asistir\, le agradecemos que lo comunique a Casa de Zorrilla (983 42 62 66) para que podamos repartir su localidad a otra persona. \nAcceso gratuito con invitación. Recogida de invitaciones: Casa de Zorrilla (horario habitual). Máximo 2 por persona. A partir del 19 de septiembre. \nPROGRAMACIÓN FERIA Y FIESTAS DE LA VIRGEN DE SAN LORENZO EN CASA DE ZORRILLA \nViernes 1: 20:30\, 21:15\, 22:00 y 22:45 h. 15 pas. por pase. Pase: 20-25 minutos. MICROTEATRO: «Sinceridad» de J. L. Alonso de Santos. Compañía «La Quimera de Plástico». Actrices: Katia Gallego y Shelma Sorhegui. \nAPLAZADO. Sábado 2: 21:30 h. TEATRO: «El cartógrafo» (de Juan Mayorga). Compañía «Tiramisú». Dirige: Manu Requejo. \nDomingo 3. 21:00 h. MÚSICA: «A la memoria del cantautor». Andy Fontana. \nLunes 4 y martes 5: CINE: «Cortos de humor». Selección y proyección: Rodinia. Nota: el mismo programa ambos días. \nMiércoles 6. 21:00 h. TEATRO: «El adefesio» (de Rafael Alberti). Compañía «Zahorí Teatro». Dirige: Santiago Estévez. \nJueves 7. 21:00 h. TEATRO: «Estrena2». Compañía «Arcón de Olid». Dirige: Juan Casado. \nViernes 8. 21:00 h. MÚSICA: Concierto de presentación del IX Festival «Mediodía de Versos». Grupos: «Binomio Nómada» y «Sin Voz ni Don». \nSábado 9. 21:00 h. TEATRO: «Tic-tac». Compañía «Amigos del Teatro». Dirigen: Esperanza Sánchez y Pedro Medina. \nDomingo 10. 21:00 h. TEATRO: «Yerma (adaptación)» (de Federico García Lorca) y «El premio de Nicanor o A quién le doy la suerte» (de Carlos Arniches). Compañía «Grupo Tú y yo». Actores: Lita Barnés\, José Luis García Oliveros\, María Pérez Portero y Vicente Zautúa.
URL:https://valladolidensutinta.es/agenda/teatro-el-cartografo-de-juan-mayorga-compania-tiramisu/
LOCATION:Casa de Zorrilla/Jardín romántico
CATEGORIES:Casa Zorrilla,Teatro
ATTACH;FMTTYPE=image/jpeg:https://valladolidensutinta.es/wp-content/uploads/2023/08/02-Tiramisu-Teatro-e1692612200966.jpg
END:VEVENT
BEGIN:VEVENT
DTSTART;TZID=Europe/Madrid:20230902T203000
DTEND;TZID=Europe/Madrid:20230902T220000
DTSTAMP:20260422T121504
CREATED:20230821T100344Z
LAST-MODIFIED:20230821T100344Z
UID:14085-1693686600-1693692000@valladolidensutinta.es
SUMMARY:APLAZADO POR CLIMATOLOGÍA ADVERSA. TEATRO: "El cartógrafo" (de Juan Mayorga). Compañía "Tiramisú"
DESCRIPTION:APLAZADO AL MARTES 12 DE SEPTIEMBRE\, 21:00 H. No es preciso canjear las invitaciones. Si desiste de asistir\, le agradecemos que lo comunique a Casa de Zorrilla (983 42 62 66) para que podamos repartir su localidad a otra persona. \nAcceso gratuito con invitación. Recogida de invitaciones: Casa de Zorrilla (horario habitual). Máximo 2 por persona. A partir del 19 de septiembre. \nPROGRAMACIÓN FERIA Y FIESTAS DE LA VIRGEN DE SAN LORENZO EN CASA DE ZORRILLA \nViernes 1: 20:30\, 21:15\, 22:00 y 22:45 h. 15 pas. por pase. Pase: 20-25 minutos. MICROTEATRO: «Sinceridad» de J. L. Alonso de Santos. Compañía «La Quimera de Plástico». Actrices: Katia Gallego y Shelma Sorhegui. \nAPLAZADO. Sábado 2: 21:30 h. TEATRO: «El cartógrafo» (de Juan Mayorga). Compañía «Tiramisú». Dirige: Manu Requejo. \nDomingo 3. 21:00 h. MÚSICA: «A la memoria del cantautor». Andy Fontana. \nLunes 4 y martes 5: CINE: «Cortos de humor». Selección y proyección: Rodinia. Nota: el mismo programa ambos días. \nMiércoles 6. 21:00 h. TEATRO: «El adefesio» (de Rafael Alberti). Compañía «Zahorí Teatro». Dirige: Santiago Estévez. \nJueves 7. 21:00 h. TEATRO: «Estrena2». Compañía «Arcón de Olid». Dirige: Juan Casado. \nViernes 8. 21:00 h. MÚSICA: Concierto de presentación del IX Festival «Mediodía de Versos». Grupos: «Binomio Nómada» y «Sin Voz ni Don». \nSábado 9. 21:00 h. TEATRO: «Tic-tac». Compañía «Amigos del Teatro». Dirigen: Esperanza Sánchez y Pedro Medina. \nDomingo 10. 21:00 h. TEATRO: «Yerma (adaptación)» (de Federico García Lorca) y «El premio de Nicanor o A quién le doy la suerte» (de Carlos Arniches). Compañía «Grupo Tú y yo». Actores: Lita Barnés\, José Luis García Oliveros\, María Pérez Portero y Vicente Zautúa.
URL:https://valladolidensutinta.es/agenda/teatro-el-cartografo-de-juan-mayorga-compania-tiramisu-2/
LOCATION:Casa de Zorrilla/Jardín romántico
CATEGORIES:Casa Zorrilla,Teatro
ATTACH;FMTTYPE=image/jpeg:https://valladolidensutinta.es/wp-content/uploads/2023/08/02-Tiramisu-Teatro-e1692612200966.jpg
END:VEVENT
BEGIN:VEVENT
DTSTART;TZID=Europe/Madrid:20230906T200000
DTEND;TZID=Europe/Madrid:20230906T213000
DTSTAMP:20260422T121504
CREATED:20230821T102726Z
LAST-MODIFIED:20230821T102737Z
UID:12722-1694030400-1694035800@valladolidensutinta.es
SUMMARY:TEATRO: "El adefesio" (de Rafael Alberti). Compañía "Zahorí Teatro"
DESCRIPTION:Acceso gratuito con invitación. Recogida de invitaciones: Casa de Zorrilla (horario habitual). Máximo 2 por persona. A partir del 19 de septiembre. \nPROGRAMACIÓN FERIA Y FIESTAS DE LA VIRGEN DE SAN LORENZO EN CASA DE ZORRILLA \nViernes 1: 20:30\, 21:15\, 22:00 y 22:45 h. 15 pas. por pase. Pase: 20-25 minutos. MICROTEATRO: «Sinceridad» de J. L. Alonso de Santos. Compañía «La Quimera de Plástico». Actrices: Katia Gallego y Shelma Sorhegui. \nSábado 2: 21:30 h. TEATRO: «El cartógrafo» (de Juan Mayorga). Compañía «Tiramisú». Dirige: Manu Requejo. \nDomingo 3. 21:00 h. MÚSICA: «A la memoria del cantautor». Andy Fontana. \nLunes 4 y martes 5: CINE: «Cortos de humor». Selección y proyección: Rodinia. Nota: el mismo programa ambos días. \nMiércoles 6. 21:00 h. TEATRO: «El adefesio» (de Rafael Alberti). Compañía «Zahorí Teatro». Dirige: Santiago Estévez. \nJueves 7. 21:00 h. TEATRO: «Estrena2». Compañía «Arcón de Olid». Dirige: Juan Casado. \nViernes 8. 21:00 h. MÚSICA: Concierto de presentación del IX Festival «Mediodía de Versos». Grupos: «Binomio Nómada» y «Sin Voz ni Don». \nSábado 9. 21:00 h. TEATRO: «Tic-tac». Compañía «Amigos del Teatro». Dirigen: Esperanza Sánchez y Pedro Medina. \nDomingo 10. 21:00 h. TEATRO: «Yerma (adaptación)» (de Federico García Lorca) y «El premio de Nicanor o A quién le doy la suerte» (de Carlos Arniches). Compañía «Grupo Tú y yo». Actores: Lita Barnés\, José Luis García Oliveros\, María Pérez Portero y Vicente Zautúa.
URL:https://valladolidensutinta.es/agenda/teatro-el-adefesio-de-rafael-alberti-compania-zahori-teatro/
LOCATION:Casa de Zorrilla/Jardín romántico
CATEGORIES:Casa Zorrilla,Programación de verano,Teatro
ATTACH;FMTTYPE=image/jpeg:https://valladolidensutinta.es/wp-content/uploads/2023/08/06-Zahori-Teatro-scaled.jpg
END:VEVENT
BEGIN:VEVENT
DTSTART;TZID=Europe/Madrid:20230906T200000
DTEND;TZID=Europe/Madrid:20230906T213000
DTSTAMP:20260422T121504
CREATED:20230821T102726Z
LAST-MODIFIED:20230821T102726Z
UID:14089-1694030400-1694035800@valladolidensutinta.es
SUMMARY:TEATRO: "El adefesio" (de Rafael Alberti). Compañía "Zahorí Teatro"
DESCRIPTION:Acceso gratuito con invitación. Recogida de invitaciones: Casa de Zorrilla (horario habitual). Máximo 2 por persona. A partir del 19 de septiembre. \nPROGRAMACIÓN FERIA Y FIESTAS DE LA VIRGEN DE SAN LORENZO EN CASA DE ZORRILLA \nViernes 1: 20:30\, 21:15\, 22:00 y 22:45 h. 15 pas. por pase. Pase: 20-25 minutos. MICROTEATRO: «Sinceridad» de J. L. Alonso de Santos. Compañía «La Quimera de Plástico». Actrices: Katia Gallego y Shelma Sorhegui. \nSábado 2: 21:30 h. TEATRO: «El cartógrafo» (de Juan Mayorga). Compañía «Tiramisú». Dirige: Manu Requejo. \nDomingo 3. 21:00 h. MÚSICA: «A la memoria del cantautor». Andy Fontana. \nLunes 4 y martes 5: CINE: «Cortos de humor». Selección y proyección: Rodinia. Nota: el mismo programa ambos días. \nMiércoles 6. 21:00 h. TEATRO: «El adefesio» (de Rafael Alberti). Compañía «Zahorí Teatro». Dirige: Santiago Estévez. \nJueves 7. 21:00 h. TEATRO: «Estrena2». Compañía «Arcón de Olid». Dirige: Juan Casado. \nViernes 8. 21:00 h. MÚSICA: Concierto de presentación del IX Festival «Mediodía de Versos». Grupos: «Binomio Nómada» y «Sin Voz ni Don». \nSábado 9. 21:00 h. TEATRO: «Tic-tac». Compañía «Amigos del Teatro». Dirigen: Esperanza Sánchez y Pedro Medina. \nDomingo 10. 21:00 h. TEATRO: «Yerma (adaptación)» (de Federico García Lorca) y «El premio de Nicanor o A quién le doy la suerte» (de Carlos Arniches). Compañía «Grupo Tú y yo». Actores: Lita Barnés\, José Luis García Oliveros\, María Pérez Portero y Vicente Zautúa.
URL:https://valladolidensutinta.es/agenda/teatro-el-adefesio-de-rafael-alberti-compania-zahori-teatro-2/
LOCATION:Casa de Zorrilla/Jardín romántico
CATEGORIES:Casa Zorrilla,Programación de verano,Teatro
ATTACH;FMTTYPE=image/jpeg:https://valladolidensutinta.es/wp-content/uploads/2023/08/06-Zahori-Teatro-scaled.jpg
END:VEVENT
BEGIN:VEVENT
DTSTART;TZID=Europe/Madrid:20230907T200000
DTEND;TZID=Europe/Madrid:20230907T213000
DTSTAMP:20260422T121504
CREATED:20230821T103226Z
LAST-MODIFIED:20230821T103226Z
UID:14090-1694116800-1694122200@valladolidensutinta.es
SUMMARY:TEATRO: "Estrena2". Compañía "Arcón de Olid"
DESCRIPTION:Acceso gratuito con invitación. Recogida de invitaciones: Casa de Zorrilla (horario habitual). Máximo 2 por persona. A partir del 19 de septiembre. \nPROGRAMACIÓN FERIA Y FIESTAS DE LA VIRGEN DE SAN LORENZO EN CASA DE ZORRILLA \nViernes 1: 20:30\, 21:15\, 22:00 y 22:45 h. 15 pas. por pase. Pase: 20-25 minutos. MICROTEATRO: «Sinceridad» de J. L. Alonso de Santos. Compañía «La Quimera de Plástico». Actrices: Katia Gallego y Shelma Sorhegui. \nSábado 2: 21:30 h. TEATRO: «El cartógrafo» (de Juan Mayorga). Compañía «Tiramisú». Dirige: Manu Requejo. \nDomingo 3. 21:00 h. MÚSICA: «A la memoria del cantautor». Andy Fontana. \nLunes 4 y martes 5: CINE: «Cortos de humor». Selección y proyección: Rodinia. Nota: el mismo programa ambos días. \nMiércoles 6. 21:00 h. TEATRO: «El adefesio» (de Rafael Alberti). Compañía «Zahorí Teatro». Dirige: Santiago Estévez. \nJueves 7. 21:00 h. TEATRO: «Estrena2». Compañía «Arcón de Olid». Dirige: Juan Casado. \nViernes 8. 21:00 h. MÚSICA: Concierto de presentación del IX Festival «Mediodía de Versos». Grupos: «Binomio Nómada» y «Sin Voz ni Don». \nSábado 9. 21:00 h. TEATRO: «Tic-tac». Compañía «Amigos del Teatro». Dirigen: Esperanza Sánchez y Pedro Medina. \nDomingo 10. 21:00 h. TEATRO: «Yerma (adaptación)» (de Federico García Lorca) y «El premio de Nicanor o A quién le doy la suerte» (de Carlos Arniches). Compañía «Grupo Tú y yo». Actores: Lita Barnés\, José Luis García Oliveros\, María Pérez Portero y Vicente Zautúa.
URL:https://valladolidensutinta.es/agenda/teatro-estrena2-compania-arcon-de-olid-2/
LOCATION:Casa de Zorrilla/Jardín romántico
CATEGORIES:Casa Zorrilla,Programación de verano,Teatro
ATTACH;FMTTYPE=image/jpeg:https://valladolidensutinta.es/wp-content/uploads/2023/08/07-Teatro-Arcon-de-Olid.jpg
END:VEVENT
BEGIN:VEVENT
DTSTART;TZID=Europe/Madrid:20230907T200000
DTEND;TZID=Europe/Madrid:20230907T213000
DTSTAMP:20260422T121504
CREATED:20230821T103226Z
LAST-MODIFIED:20230821T110018Z
UID:12725-1694116800-1694122200@valladolidensutinta.es
SUMMARY:TEATRO: "Estrena2". Compañía "Arcón de Olid"
DESCRIPTION:Acceso gratuito con invitación. Recogida de invitaciones: Casa de Zorrilla (horario habitual). Máximo 2 por persona. A partir del 19 de septiembre. \nPROGRAMACIÓN FERIA Y FIESTAS DE LA VIRGEN DE SAN LORENZO EN CASA DE ZORRILLA \nViernes 1: 20:30\, 21:15\, 22:00 y 22:45 h. 15 pas. por pase. Pase: 20-25 minutos. MICROTEATRO: «Sinceridad» de J. L. Alonso de Santos. Compañía «La Quimera de Plástico». Actrices: Katia Gallego y Shelma Sorhegui. \nSábado 2: 21:30 h. TEATRO: «El cartógrafo» (de Juan Mayorga). Compañía «Tiramisú». Dirige: Manu Requejo. \nDomingo 3. 21:00 h. MÚSICA: «A la memoria del cantautor». Andy Fontana. \nLunes 4 y martes 5: CINE: «Cortos de humor». Selección y proyección: Rodinia. Nota: el mismo programa ambos días. \nMiércoles 6. 21:00 h. TEATRO: «El adefesio» (de Rafael Alberti). Compañía «Zahorí Teatro». Dirige: Santiago Estévez. \nJueves 7. 21:00 h. TEATRO: «Estrena2». Compañía «Arcón de Olid». Dirige: Juan Casado. \nViernes 8. 21:00 h. MÚSICA: Concierto de presentación del IX Festival «Mediodía de Versos». Grupos: «Binomio Nómada» y «Sin Voz ni Don». \nSábado 9. 21:00 h. TEATRO: «Tic-tac». Compañía «Amigos del Teatro». Dirigen: Esperanza Sánchez y Pedro Medina. \nDomingo 10. 21:00 h. TEATRO: «Yerma (adaptación)» (de Federico García Lorca) y «El premio de Nicanor o A quién le doy la suerte» (de Carlos Arniches). Compañía «Grupo Tú y yo». Actores: Lita Barnés\, José Luis García Oliveros\, María Pérez Portero y Vicente Zautúa.
URL:https://valladolidensutinta.es/agenda/teatro-estrena2-compania-arcon-de-olid/
LOCATION:Casa de Zorrilla/Jardín romántico
CATEGORIES:Casa Zorrilla,Programación de verano,Teatro
ATTACH;FMTTYPE=image/jpeg:https://valladolidensutinta.es/wp-content/uploads/2023/08/07-Teatro-Arcon-de-Olid.jpg
END:VEVENT
BEGIN:VEVENT
DTSTART;TZID=Europe/Madrid:20230909T200000
DTEND;TZID=Europe/Madrid:20230909T213000
DTSTAMP:20260422T121504
CREATED:20230821T110944Z
LAST-MODIFIED:20230821T110944Z
UID:14092-1694289600-1694295000@valladolidensutinta.es
SUMMARY:TEATRO: "Tic-tac". Compañía "Amigos del Teatro"
DESCRIPTION:Acceso gratuito con invitación. Recogida de invitaciones: Casa de Zorrilla (horario habitual). Máximo 2 por persona. A partir del 19 de septiembre. \nPROGRAMACIÓN FERIA Y FIESTAS DE LA VIRGEN DE SAN LORENZO EN CASA DE ZORRILLA \nViernes 1: 20:30\, 21:15\, 22:00 y 22:45 h. 15 pas. por pase. Pase: 20-25 minutos. MICROTEATRO: «Sinceridad» de J. L. Alonso de Santos. Compañía «La Quimera de Plástico». Actrices: Katia Gallego y Shelma Sorhegui. \nSábado 2: 21:30 h. TEATRO: «El cartógrafo» (de Juan Mayorga). Compañía «Tiramisú». Dirige: Manu Requejo. \nDomingo 3. 21:00 h. MÚSICA: «A la memoria del cantautor». Andy Fontana. \nLunes 4 y martes 5: CINE: «Cortos de humor». Selección y proyección: Rodinia. Nota: el mismo programa ambos días. \nMiércoles 6. 21:00 h. TEATRO: «El adefesio» (de Rafael Alberti). Compañía «Zahorí Teatro». Dirige: Santiago Estévez. \nJueves 7. 21:00 h. TEATRO: «Estrena2». Compañía «Arcón de Olid». Dirige: Juan Casado. \nViernes 8. 21:00 h. MÚSICA: Concierto de presentación del IX Festival «Mediodía de Versos». Grupos: «Binomio Nómada» y «Sin Voz ni Don». \nSábado 9. 21:00 h. TEATRO: «Tic-tac». Compañía «Amigos del Teatro». Dirigen: Esperanza Sánchez y Pedro Medina. Elenco: Priscila Navarro\, Carlos Barrientos\, Ruth Pascual\, Pedro Medina\, Carmen Delgado\, Gustavo González y Esperanza Sánchez. \nDomingo 10. 21:00 h. TEATRO: «Yerma (adaptación)» (de Federico García Lorca) y «El premio de Nicanor o A quién le doy la suerte» (de Carlos Arniches). Compañía «Grupo Tú y yo». Actores: Lita Barnés\, José Luis García Oliveros\, María Pérez Portero y Vicente Zautúa.
URL:https://valladolidensutinta.es/agenda/teatro-tic-tac-compania-amigos-del-teatro-2/
LOCATION:Casa de Zorrilla/Jardín romántico
CATEGORIES:Casa Zorrilla,Programación de verano,Teatro
ATTACH;FMTTYPE=image/jpeg:https://valladolidensutinta.es/wp-content/uploads/2023/08/09-Tic-Tac.jpg
END:VEVENT
BEGIN:VEVENT
DTSTART;TZID=Europe/Madrid:20230909T200000
DTEND;TZID=Europe/Madrid:20230909T213000
DTSTAMP:20260422T121504
CREATED:20230821T110944Z
LAST-MODIFIED:20230821T111314Z
UID:12731-1694289600-1694295000@valladolidensutinta.es
SUMMARY:TEATRO: "Tic-tac". Compañía "Amigos del Teatro"
DESCRIPTION:Acceso gratuito con invitación. Recogida de invitaciones: Casa de Zorrilla (horario habitual). Máximo 2 por persona. A partir del 19 de septiembre. \nPROGRAMACIÓN FERIA Y FIESTAS DE LA VIRGEN DE SAN LORENZO EN CASA DE ZORRILLA \nViernes 1: 20:30\, 21:15\, 22:00 y 22:45 h. 15 pas. por pase. Pase: 20-25 minutos. MICROTEATRO: «Sinceridad» de J. L. Alonso de Santos. Compañía «La Quimera de Plástico». Actrices: Katia Gallego y Shelma Sorhegui. \nSábado 2: 21:30 h. TEATRO: «El cartógrafo» (de Juan Mayorga). Compañía «Tiramisú». Dirige: Manu Requejo. \nDomingo 3. 21:00 h. MÚSICA: «A la memoria del cantautor». Andy Fontana. \nLunes 4 y martes 5: CINE: «Cortos de humor». Selección y proyección: Rodinia. Nota: el mismo programa ambos días. \nMiércoles 6. 21:00 h. TEATRO: «El adefesio» (de Rafael Alberti). Compañía «Zahorí Teatro». Dirige: Santiago Estévez. \nJueves 7. 21:00 h. TEATRO: «Estrena2». Compañía «Arcón de Olid». Dirige: Juan Casado. \nViernes 8. 21:00 h. MÚSICA: Concierto de presentación del IX Festival «Mediodía de Versos». Grupos: «Binomio Nómada» y «Sin Voz ni Don». \nSábado 9. 21:00 h. TEATRO: «Tic-tac». Compañía «Amigos del Teatro». Dirigen: Esperanza Sánchez y Pedro Medina. Elenco: Priscila Navarro\, Carlos Barrientos\, Ruth Pascual\, Pedro Medina\, Carmen Delgado\, Gustavo González y Esperanza Sánchez. \nDomingo 10. 21:00 h. TEATRO: «Yerma (adaptación)» (de Federico García Lorca) y «El premio de Nicanor o A quién le doy la suerte» (de Carlos Arniches). Compañía «Grupo Tú y yo». Actores: Lita Barnés\, José Luis García Oliveros\, María Pérez Portero y Vicente Zautúa.
URL:https://valladolidensutinta.es/agenda/teatro-tic-tac-compania-amigos-del-teatro/
LOCATION:Casa de Zorrilla/Jardín romántico
CATEGORIES:Casa Zorrilla,Programación de verano,Teatro
ATTACH;FMTTYPE=image/jpeg:https://valladolidensutinta.es/wp-content/uploads/2023/08/09-Tic-Tac.jpg
END:VEVENT
BEGIN:VEVENT
DTSTART;TZID=Europe/Madrid:20230910T200000
DTEND;TZID=Europe/Madrid:20230910T213000
DTSTAMP:20260422T121504
CREATED:20230821T111631Z
LAST-MODIFIED:20230821T111703Z
UID:12737-1694376000-1694381400@valladolidensutinta.es
SUMMARY:TEATRO: "Yerma (adaptación)" (de Federico García Lorca) y "El premio de Nicanor o A quién le doy la suerte" (de Carlos Arniches). Compañía "Grupo Tú y yo"
DESCRIPTION:Acceso gratuito con invitación. Recogida de invitaciones: Casa de Zorrilla (horario habitual). Máximo 2 por persona. A partir del 19 de septiembre. \nPROGRAMACIÓN FERIA Y FIESTAS DE LA VIRGEN DE SAN LORENZO EN CASA DE ZORRILLA \nViernes 1: 20:30\, 21:15\, 22:00 y 22:45 h. 15 pas. por pase. Pase: 20-25 minutos. MICROTEATRO: «Sinceridad» de J. L. Alonso de Santos. Compañía «La Quimera de Plástico». Actrices: Katia Gallego y Shelma Sorhegui. \nSábado 2: 21:30 h. TEATRO: «El cartógrafo» (de Juan Mayorga). Compañía «Tiramisú». Dirige: Manu Requejo. \nDomingo 3. 21:00 h. MÚSICA: «A la memoria del cantautor». Andy Fontana. \nLunes 4 y martes 5: CINE: «Cortos de humor». Selección y proyección: Rodinia. Nota: el mismo programa ambos días. \nMiércoles 6. 21:00 h. TEATRO: «El adefesio» (de Rafael Alberti). Compañía «Zahorí Teatro». Dirige: Santiago Estévez. \nJueves 7. 21:00 h. TEATRO: «Estrena2». Compañía «Arcón de Olid». Dirige: Juan Casado. \nViernes 8. 21:00 h. MÚSICA: Concierto de presentación del IX Festival «Mediodía de Versos». Grupos: «Binomio Nómada» y «Sin Voz ni Don». \nSábado 9. 21:00 h. TEATRO: «Tic-tac». Compañía «Amigos del Teatro». Dirigen: Esperanza Sánchez y Pedro Medina. Elenco: Priscila Navarro\, Carlos Barrientos\, Ruth Pascual\, Pedro Medina\, Carmen Delgado\, Gustavo González y Esperanza Sánchez. \nDomingo 10. 21:00 h. TEATRO: «Yerma (adaptación)» (de Federico García Lorca) y «El premio de Nicanor o A quién le doy la suerte» (de Carlos Arniches). Compañía «Grupo Tú y yo». Actores: Lita Barnés\, José Luis García Oliveros\, María Pérez Portero y Vicente Zautúa.
URL:https://valladolidensutinta.es/agenda/teatro-yerma-adaptacion-de-federico-garcia-lorca-y-el-premio-de-nicanor-o-a-quien-le-doy-la-suerte-de-carlos-arniches-compania-grupo-tu-y-yo/
LOCATION:Casa de Zorrilla/Jardín romántico
CATEGORIES:Casa Zorrilla,Programación de verano,Teatro
ATTACH;FMTTYPE=image/jpeg:https://valladolidensutinta.es/wp-content/uploads/2023/08/10-Grupo-Teatral-tu-y-yo.jpg
END:VEVENT
BEGIN:VEVENT
DTSTART;TZID=Europe/Madrid:20230910T200000
DTEND;TZID=Europe/Madrid:20230910T213000
DTSTAMP:20260422T121504
CREATED:20230821T111631Z
LAST-MODIFIED:20230821T111631Z
UID:14093-1694376000-1694381400@valladolidensutinta.es
SUMMARY:TEATRO: "Yerma (adaptación)" (de Federico García Lorca) y "El premio de Nicanor o A quién le doy la suerte" (de Carlos Arniches). Compañía "Grupo Tú y yo"
DESCRIPTION:Acceso gratuito con invitación. Recogida de invitaciones: Casa de Zorrilla (horario habitual). Máximo 2 por persona. A partir del 19 de septiembre. \nPROGRAMACIÓN FERIA Y FIESTAS DE LA VIRGEN DE SAN LORENZO EN CASA DE ZORRILLA \nViernes 1: 20:30\, 21:15\, 22:00 y 22:45 h. 15 pas. por pase. Pase: 20-25 minutos. MICROTEATRO: «Sinceridad» de J. L. Alonso de Santos. Compañía «La Quimera de Plástico». Actrices: Katia Gallego y Shelma Sorhegui. \nSábado 2: 21:30 h. TEATRO: «El cartógrafo» (de Juan Mayorga). Compañía «Tiramisú». Dirige: Manu Requejo. \nDomingo 3. 21:00 h. MÚSICA: «A la memoria del cantautor». Andy Fontana. \nLunes 4 y martes 5: CINE: «Cortos de humor». Selección y proyección: Rodinia. Nota: el mismo programa ambos días. \nMiércoles 6. 21:00 h. TEATRO: «El adefesio» (de Rafael Alberti). Compañía «Zahorí Teatro». Dirige: Santiago Estévez. \nJueves 7. 21:00 h. TEATRO: «Estrena2». Compañía «Arcón de Olid». Dirige: Juan Casado. \nViernes 8. 21:00 h. MÚSICA: Concierto de presentación del IX Festival «Mediodía de Versos». Grupos: «Binomio Nómada» y «Sin Voz ni Don». \nSábado 9. 21:00 h. TEATRO: «Tic-tac». Compañía «Amigos del Teatro». Dirigen: Esperanza Sánchez y Pedro Medina. Elenco: Priscila Navarro\, Carlos Barrientos\, Ruth Pascual\, Pedro Medina\, Carmen Delgado\, Gustavo González y Esperanza Sánchez. \nDomingo 10. 21:00 h. TEATRO: «Yerma (adaptación)» (de Federico García Lorca) y «El premio de Nicanor o A quién le doy la suerte» (de Carlos Arniches). Compañía «Grupo Tú y yo». Actores: Lita Barnés\, José Luis García Oliveros\, María Pérez Portero y Vicente Zautúa.
URL:https://valladolidensutinta.es/agenda/teatro-yerma-adaptacion-de-federico-garcia-lorca-y-el-premio-de-nicanor-o-a-quien-le-doy-la-suerte-de-carlos-arniches-compania-grupo-tu-y-yo-2/
LOCATION:Casa de Zorrilla/Jardín romántico
CATEGORIES:Casa Zorrilla,Programación de verano,Teatro
ATTACH;FMTTYPE=image/jpeg:https://valladolidensutinta.es/wp-content/uploads/2023/08/10-Grupo-Teatral-tu-y-yo.jpg
END:VEVENT
BEGIN:VEVENT
DTSTART;TZID=Europe/Madrid:20230913T200000
DTEND;TZID=Europe/Madrid:20230913T213000
DTSTAMP:20260422T121504
CREATED:20230821T120006Z
LAST-MODIFIED:20230821T120034Z
UID:12751-1694635200-1694640600@valladolidensutinta.es
SUMMARY:
DESCRIPTION:El programa «Valladolid Letraherido» acoge la representación teatral de la obra “El amante”\, de Harold Pinter. Compañía: Amigos del Teatro. Dirige: Luisa Valares. Elenco: Joaquín y Mariví. Entrada con invitación. Recogida de invitaciones en Casa de Zorrilla\, a partir del 2 de septiembre de 2023 (horario habitual). Máximo 2 invitaciones por persona.
URL:https://valladolidensutinta.es/agenda/12751/
LOCATION:Casa de Zorrilla/Jardín romántico
CATEGORIES:Casa Zorrilla,Programación de verano,Teatro,Valladolid Letraherido
ATTACH;FMTTYPE=image/jpeg:https://valladolidensutinta.es/wp-content/uploads/2023/08/13-El-Amante-e1692619183700.jpg
END:VEVENT
BEGIN:VEVENT
DTSTART;TZID=Europe/Madrid:20230913T200000
DTEND;TZID=Europe/Madrid:20230913T213000
DTSTAMP:20260422T121504
CREATED:20230821T120006Z
LAST-MODIFIED:20230821T120006Z
UID:14095-1694635200-1694640600@valladolidensutinta.es
SUMMARY:
DESCRIPTION:El programa «Valladolid Letraherido» acoge la representación teatral de la obra “El amante”\, de Harold Pinter. Compañía: Amigos del Teatro. Dirige: Luisa Valares. Elenco: Joaquín y Mariví. Entrada con invitación. Recogida de invitaciones en Casa de Zorrilla\, a partir del 2 de septiembre de 2023 (horario habitual). Máximo 2 invitaciones por persona.
URL:https://valladolidensutinta.es/agenda/12751-2/
LOCATION:Casa de Zorrilla/Jardín romántico
CATEGORIES:Casa Zorrilla,Programación de verano,Teatro,Valladolid Letraherido
ATTACH;FMTTYPE=image/jpeg:https://valladolidensutinta.es/wp-content/uploads/2023/08/13-El-Amante-e1692619183700.jpg
END:VEVENT
BEGIN:VEVENT
DTSTART;TZID=Europe/Madrid:20230913T200000
DTEND;TZID=Europe/Madrid:20230913T213000
DTSTAMP:20260422T121504
CREATED:20230822T072521Z
LAST-MODIFIED:20230822T072536Z
UID:12760-1694635200-1694640600@valladolidensutinta.es
SUMMARY:Teatro: "El amante"\, de Harold Pinter. Compañía: Amigos del Teatro
DESCRIPTION:El programa «Valladolid Letraherido» y la Casa de Zorrilla acogen la representación de “El amante”\, de Harold Pinter. Compañía: Amigos del Teatro. Dirige: Luisa Valares. Elenco: Joaquín y Mariví. Entrada con invitación. Recogida de invitaciones en Casa de Zorrilla\, a partir del 2 de septiembre de 2023 (horario habitual) \n 
URL:https://valladolidensutinta.es/agenda/teatro-el-amante-de-harold-pinter-compania-amigos-del-teatro/
LOCATION:Casa de Zorrilla/Jardín romántico
CATEGORIES:Casa Zorrilla,Programación de verano,Teatro,Valladolid Letraherido
ATTACH;FMTTYPE=image/jpeg:https://valladolidensutinta.es/wp-content/uploads/2023/08/13-El-Amante-e1692619183700.jpg
END:VEVENT
BEGIN:VEVENT
DTSTART;TZID=Europe/Madrid:20230913T200000
DTEND;TZID=Europe/Madrid:20230913T213000
DTSTAMP:20260422T121504
CREATED:20230822T072521Z
LAST-MODIFIED:20230822T072521Z
UID:14098-1694635200-1694640600@valladolidensutinta.es
SUMMARY:Teatro: "El amante"\, de Harold Pinter. Compañía: Amigos del Teatro
DESCRIPTION:El programa «Valladolid Letraherido» y la Casa de Zorrilla acogen la representación de “El amante”\, de Harold Pinter. Compañía: Amigos del Teatro. Dirige: Luisa Valares. Elenco: Joaquín y Mariví. Entrada con invitación. Recogida de invitaciones en Casa de Zorrilla\, a partir del 2 de septiembre de 2023 (horario habitual) \n 
URL:https://valladolidensutinta.es/agenda/teatro-el-amante-de-harold-pinter-compania-amigos-del-teatro-2/
LOCATION:Casa de Zorrilla/Jardín romántico
CATEGORIES:Casa Zorrilla,Programación de verano,Teatro,Valladolid Letraherido
ATTACH;FMTTYPE=image/jpeg:https://valladolidensutinta.es/wp-content/uploads/2023/08/13-El-Amante-e1692619183700.jpg
END:VEVENT
BEGIN:VEVENT
DTSTART;TZID=Europe/Madrid:20230915T193000
DTEND;TZID=Europe/Madrid:20230915T225900
DTSTAMP:20260422T121504
CREATED:20230822T074613Z
LAST-MODIFIED:20230822T074613Z
UID:14099-1694806200-1694818740@valladolidensutinta.es
SUMMARY:Microteatro: "Sinceridad"\, de José Luis Alonso de Santos. Compañía: La Quimera de Plástico.
DESCRIPTION:El programa «Valladolid Letraherido» y la Casa de Zorrilla acogen una sesión de microteatro en la propia Casa de Zorrilla. La obra representada -«Sinceridad»\, de José Luis Alonso de Santos- podrá verse en sucesivos pases\, a las 20:30\, 21:15\, 22:00 y 22:45 h. 15 pas. por pase. Pase: 20-25 minutos.  Compañía «La Quimera de Plástico». Actrices: Katia Gallego y Shelma Sorhegui. Recogida de invitaciones en Casa de Zorrilla\, a partir del 2 de septiembre (horario habitual). Máximo 2 invitaciones por persona.
URL:https://valladolidensutinta.es/agenda/microteatro-sinceridad-de-jose-luis-alonso-de-santos-compania-la-quimera-de-plastico-2/
LOCATION:Casa de Zorrilla
CATEGORIES:Casa Zorrilla,Microteatro,Teatro,Valladolid Letraherido
ATTACH;FMTTYPE=image/jpeg:https://valladolidensutinta.es/wp-content/uploads/2023/08/01-Microteatro.jpg
END:VEVENT
BEGIN:VEVENT
DTSTART;TZID=Europe/Madrid:20230915T193000
DTEND;TZID=Europe/Madrid:20230915T225900
DTSTAMP:20260422T121504
CREATED:20230822T074613Z
LAST-MODIFIED:20230822T075402Z
UID:12763-1694806200-1694818740@valladolidensutinta.es
SUMMARY:Microteatro: "Sinceridad"\, de José Luis Alonso de Santos. Compañía: La Quimera de Plástico.
DESCRIPTION:El programa «Valladolid Letraherido» y la Casa de Zorrilla acogen una sesión de microteatro en la propia Casa de Zorrilla. La obra representada -«Sinceridad»\, de José Luis Alonso de Santos- podrá verse en sucesivos pases\, a las 20:30\, 21:15\, 22:00 y 22:45 h. 15 pas. por pase. Pase: 20-25 minutos.  Compañía «La Quimera de Plástico». Actrices: Katia Gallego y Shelma Sorhegui. Recogida de invitaciones en Casa de Zorrilla\, a partir del 2 de septiembre (horario habitual). Máximo 2 invitaciones por persona.
URL:https://valladolidensutinta.es/agenda/microteatro-sinceridad-de-jose-luis-alonso-de-santos-compania-la-quimera-de-plastico/
LOCATION:Casa de Zorrilla
CATEGORIES:Casa Zorrilla,Microteatro,Teatro,Valladolid Letraherido
ATTACH;FMTTYPE=image/jpeg:https://valladolidensutinta.es/wp-content/uploads/2023/08/01-Microteatro.jpg
END:VEVENT
END:VCALENDAR