BEGIN:VCALENDAR
VERSION:2.0
PRODID:-// - ECPv6.15.20//NONSGML v1.0//EN
CALSCALE:GREGORIAN
METHOD:PUBLISH
X-ORIGINAL-URL:https://valladolidensutinta.es
X-WR-CALDESC:Eventos para 
REFRESH-INTERVAL;VALUE=DURATION:PT1H
X-Robots-Tag:noindex
X-PUBLISHED-TTL:PT1H
BEGIN:VTIMEZONE
TZID:Europe/Madrid
BEGIN:DAYLIGHT
TZOFFSETFROM:+0100
TZOFFSETTO:+0200
TZNAME:CEST
DTSTART:20210328T010000
END:DAYLIGHT
BEGIN:STANDARD
TZOFFSETFROM:+0200
TZOFFSETTO:+0100
TZNAME:CET
DTSTART:20211031T010000
END:STANDARD
BEGIN:DAYLIGHT
TZOFFSETFROM:+0100
TZOFFSETTO:+0200
TZNAME:CEST
DTSTART:20220327T010000
END:DAYLIGHT
BEGIN:STANDARD
TZOFFSETFROM:+0200
TZOFFSETTO:+0100
TZNAME:CET
DTSTART:20221030T010000
END:STANDARD
BEGIN:DAYLIGHT
TZOFFSETFROM:+0100
TZOFFSETTO:+0200
TZNAME:CEST
DTSTART:20230326T010000
END:DAYLIGHT
BEGIN:STANDARD
TZOFFSETFROM:+0200
TZOFFSETTO:+0100
TZNAME:CET
DTSTART:20231029T010000
END:STANDARD
END:VTIMEZONE
BEGIN:VEVENT
DTSTART;TZID=Europe/Madrid:20220625T180000
DTEND;TZID=Europe/Madrid:20220625T201500
DTSTAMP:20260423T175432
CREATED:20220623T064734Z
LAST-MODIFIED:20220623T065147Z
UID:11652-1656180000-1656188100@valladolidensutinta.es
SUMMARY:Teatro: "Tenorio en la Calle"\, a cargo de Amigos del Teatro
DESCRIPTION:La Pérgola del Campo Grande será escenario de la representación de «El Tenorio en la calle 2022»\, a cargo del cuadro actoral de Amigos del Teatro y bajo la dirección de Fran Pardal. Entrada libre hasta completar aforo (300 pas.).
URL:https://valladolidensutinta.es/agenda/teatro-tenorio-en-la-calle-a-cargo-de-amigos-del-teatro/
LOCATION:Campo Grande/La Pérgola
CATEGORIES:Casa Zorrilla,Programación de verano,Teatro
ATTACH;FMTTYPE=image/jpeg:https://valladolidensutinta.es/wp-content/uploads/2022/06/Rueda-de-prensa-e1655966819387.jpg
END:VEVENT
END:VCALENDAR