BEGIN:VCALENDAR
VERSION:2.0
PRODID:-// - ECPv6.15.20//NONSGML v1.0//EN
CALSCALE:GREGORIAN
METHOD:PUBLISH
X-ORIGINAL-URL:https://valladolidensutinta.es
X-WR-CALDESC:Eventos para 
REFRESH-INTERVAL;VALUE=DURATION:PT1H
X-Robots-Tag:noindex
X-PUBLISHED-TTL:PT1H
BEGIN:VTIMEZONE
TZID:Europe/Madrid
BEGIN:DAYLIGHT
TZOFFSETFROM:+0100
TZOFFSETTO:+0200
TZNAME:CEST
DTSTART:20210328T010000
END:DAYLIGHT
BEGIN:STANDARD
TZOFFSETFROM:+0200
TZOFFSETTO:+0100
TZNAME:CET
DTSTART:20211031T010000
END:STANDARD
BEGIN:DAYLIGHT
TZOFFSETFROM:+0100
TZOFFSETTO:+0200
TZNAME:CEST
DTSTART:20220327T010000
END:DAYLIGHT
BEGIN:STANDARD
TZOFFSETFROM:+0200
TZOFFSETTO:+0100
TZNAME:CET
DTSTART:20221030T010000
END:STANDARD
BEGIN:DAYLIGHT
TZOFFSETFROM:+0100
TZOFFSETTO:+0200
TZNAME:CEST
DTSTART:20230326T010000
END:DAYLIGHT
BEGIN:STANDARD
TZOFFSETFROM:+0200
TZOFFSETTO:+0100
TZNAME:CET
DTSTART:20231029T010000
END:STANDARD
END:VTIMEZONE
BEGIN:VEVENT
DTSTART;TZID=Europe/Madrid:20220714T203000
DTEND;TZID=Europe/Madrid:20220714T220000
DTSTAMP:20260423T164209
CREATED:20220704T084625Z
LAST-MODIFIED:20220705T113457Z
UID:11755-1657830600-1657836000@valladolidensutinta.es
SUMMARY:Teatro: "Barrio Caleidoscopio"\, a cargo de Teatro de la Vuelta
DESCRIPTION:El jardín romántico de la Casa de Zorrilla programa la obra de teatro «Barrio Caleidoscopio»\, producida por la compañía Teatro de la Vuelta (Carlos Gallegos). Entradas: 8€. A la venta en Casa de Zorrilla (horario habitual).
URL:https://valladolidensutinta.es/agenda/teatro-barrio-caleidoscopio-a-cargo-de-teatro-de-la-vuelta/
LOCATION:Casa de Zorrilla/Jardín romántico
CATEGORIES:Casa Revilla,Programación de verano,Teatro
ATTACH;FMTTYPE=image/webp:https://valladolidensutinta.es/wp-content/uploads/2022/07/Barrio-Caleidoscopio.webp
END:VEVENT
END:VCALENDAR