BEGIN:VCALENDAR
VERSION:2.0
PRODID:-// - ECPv6.15.20//NONSGML v1.0//EN
CALSCALE:GREGORIAN
METHOD:PUBLISH
X-ORIGINAL-URL:https://valladolidensutinta.es
X-WR-CALDESC:Eventos para 
REFRESH-INTERVAL;VALUE=DURATION:PT1H
X-Robots-Tag:noindex
X-PUBLISHED-TTL:PT1H
BEGIN:VTIMEZONE
TZID:Europe/Madrid
BEGIN:DAYLIGHT
TZOFFSETFROM:+0100
TZOFFSETTO:+0200
TZNAME:CEST
DTSTART:20210328T010000
END:DAYLIGHT
BEGIN:STANDARD
TZOFFSETFROM:+0200
TZOFFSETTO:+0100
TZNAME:CET
DTSTART:20211031T010000
END:STANDARD
BEGIN:DAYLIGHT
TZOFFSETFROM:+0100
TZOFFSETTO:+0200
TZNAME:CEST
DTSTART:20220327T010000
END:DAYLIGHT
BEGIN:STANDARD
TZOFFSETFROM:+0200
TZOFFSETTO:+0100
TZNAME:CET
DTSTART:20221030T010000
END:STANDARD
BEGIN:DAYLIGHT
TZOFFSETFROM:+0100
TZOFFSETTO:+0200
TZNAME:CEST
DTSTART:20230326T010000
END:DAYLIGHT
BEGIN:STANDARD
TZOFFSETFROM:+0200
TZOFFSETTO:+0100
TZNAME:CET
DTSTART:20231029T010000
END:STANDARD
END:VTIMEZONE
BEGIN:VEVENT
DTSTART;TZID=Europe/Madrid:20220728T203000
DTEND;TZID=Europe/Madrid:20220728T220000
DTSTAMP:20260423T164254
CREATED:20220704T102858Z
LAST-MODIFIED:20220705T113453Z
UID:11773-1659040200-1659045600@valladolidensutinta.es
SUMMARY:Teatro: "El lindo don Diego"\, a cargo de Arcón de Olid
DESCRIPTION:El jardín romántico de la Casa de Zorrilla acoge la representación de «El lindo don Diego» (Agustín Moreto)\, a cargo de la compañía Arcón de Olid\, dirigida por Juan Casado. Entradas: 8 €. A la venta en Casa de Zorrilla (horario habitual).
URL:https://valladolidensutinta.es/agenda/teatro-el-lindo-don-diego-a-cargo-de-arcon-de-olid/
LOCATION:Casa de Zorrilla/Jardín romántico
CATEGORIES:Casa Zorrilla,Programación de verano,Teatro
ATTACH;FMTTYPE=image/jpeg:https://valladolidensutinta.es/wp-content/uploads/2022/07/07-28-Arcon-de-Olid-scaled.jpg
END:VEVENT
END:VCALENDAR