BEGIN:VCALENDAR
VERSION:2.0
PRODID:-// - ECPv6.15.20//NONSGML v1.0//EN
CALSCALE:GREGORIAN
METHOD:PUBLISH
X-ORIGINAL-URL:https://valladolidensutinta.es
X-WR-CALDESC:Eventos para 
REFRESH-INTERVAL;VALUE=DURATION:PT1H
X-Robots-Tag:noindex
X-PUBLISHED-TTL:PT1H
BEGIN:VTIMEZONE
TZID:Europe/Madrid
BEGIN:DAYLIGHT
TZOFFSETFROM:+0100
TZOFFSETTO:+0200
TZNAME:CEST
DTSTART:20210328T010000
END:DAYLIGHT
BEGIN:STANDARD
TZOFFSETFROM:+0200
TZOFFSETTO:+0100
TZNAME:CET
DTSTART:20211031T010000
END:STANDARD
BEGIN:DAYLIGHT
TZOFFSETFROM:+0100
TZOFFSETTO:+0200
TZNAME:CEST
DTSTART:20220327T010000
END:DAYLIGHT
BEGIN:STANDARD
TZOFFSETFROM:+0200
TZOFFSETTO:+0100
TZNAME:CET
DTSTART:20221030T010000
END:STANDARD
BEGIN:DAYLIGHT
TZOFFSETFROM:+0100
TZOFFSETTO:+0200
TZNAME:CEST
DTSTART:20230326T010000
END:DAYLIGHT
BEGIN:STANDARD
TZOFFSETFROM:+0200
TZOFFSETTO:+0100
TZNAME:CET
DTSTART:20231029T010000
END:STANDARD
END:VTIMEZONE
BEGIN:VEVENT
DTSTART;TZID=Europe/Madrid:20220729T203000
DTEND;TZID=Europe/Madrid:20220729T220000
DTSTAMP:20260423T164201
CREATED:20220704T113408Z
LAST-MODIFIED:20220705T113453Z
UID:11777-1659126600-1659132000@valladolidensutinta.es
SUMMARY:Teatro: "La hoja roja" (Miguel Delibes)\, a cargo de Amigos del Teatro
DESCRIPTION:El jardín romántico de la Casa de Zorrilla acoge la representación de la adaptación teatral de «La hoja roja»\, de Miguel Delibes; producida por el grupo de teatro de la Asociación «Amigos del Teatro de Valladolid»\, bajo la dirección de Álvaro Téllez. Entradas: 8 €. A a la venta en la Casa de Zorrilla (horario habitual).
URL:https://valladolidensutinta.es/agenda/teatro-la-hoja-roja-miguel-delibes-a-cargo-de-amigos-del-teatro/
LOCATION:Casa de Zorrilla/Jardín romántico
CATEGORIES:Casa Zorrilla,Programación de verano,Teatro
ATTACH;FMTTYPE=image/jpeg:https://valladolidensutinta.es/wp-content/uploads/2022/07/07-29-La-hoja-roja.jpg
END:VEVENT
END:VCALENDAR