BEGIN:VCALENDAR
VERSION:2.0
PRODID:-// - ECPv6.15.20//NONSGML v1.0//EN
CALSCALE:GREGORIAN
METHOD:PUBLISH
X-ORIGINAL-URL:https://valladolidensutinta.es
X-WR-CALDESC:Eventos para 
REFRESH-INTERVAL;VALUE=DURATION:PT1H
X-Robots-Tag:noindex
X-PUBLISHED-TTL:PT1H
BEGIN:VTIMEZONE
TZID:Europe/Madrid
BEGIN:DAYLIGHT
TZOFFSETFROM:+0100
TZOFFSETTO:+0200
TZNAME:CEST
DTSTART:20210328T010000
END:DAYLIGHT
BEGIN:STANDARD
TZOFFSETFROM:+0200
TZOFFSETTO:+0100
TZNAME:CET
DTSTART:20211031T010000
END:STANDARD
BEGIN:DAYLIGHT
TZOFFSETFROM:+0100
TZOFFSETTO:+0200
TZNAME:CEST
DTSTART:20220327T010000
END:DAYLIGHT
BEGIN:STANDARD
TZOFFSETFROM:+0200
TZOFFSETTO:+0100
TZNAME:CET
DTSTART:20221030T010000
END:STANDARD
BEGIN:DAYLIGHT
TZOFFSETFROM:+0100
TZOFFSETTO:+0200
TZNAME:CEST
DTSTART:20230326T010000
END:DAYLIGHT
BEGIN:STANDARD
TZOFFSETFROM:+0200
TZOFFSETTO:+0100
TZNAME:CET
DTSTART:20231029T010000
END:STANDARD
END:VTIMEZONE
BEGIN:VEVENT
DTSTART;TZID=Europe/Madrid:20220904T200000
DTEND;TZID=Europe/Madrid:20220904T213000
DTSTAMP:20260423T122459
CREATED:20220809T080215Z
LAST-MODIFIED:20220809T080237Z
UID:11840-1662321600-1662327000@valladolidensutinta.es
SUMMARY:TIEMPO DE FERIA. Teatro: "Cuerdas"\, a cargo de Tiramisú Teatro
DESCRIPTION:Es «Tiempo de Feria» en la Casa del Poeta. El jardín romántico de la Casa de Zorrilla acoge la representación de la obra «Cuerdas»\, de Bárbara Colio;  a cargo de la compañía Tiramisú Teatro y bajo la dirección de Manu Requejo. Entrada con invitación. Recogida en Casa de Zorrilla (horario habitual) a partir del 20 de agosto. Máx. 2 por persona.
URL:https://valladolidensutinta.es/agenda/tiempo-de-feria-teatro-cuerdas-a-cargo-de-tiramisu-teatro/
LOCATION:Casa de Zorrilla/Jardín romántico
CATEGORIES:Casa Zorrilla,Teatro
ATTACH;FMTTYPE=image/jpeg:https://valladolidensutinta.es/wp-content/uploads/2022/08/09-04-Tiramisu-Teatro.jpg
END:VEVENT
END:VCALENDAR