BEGIN:VCALENDAR
VERSION:2.0
PRODID:-// - ECPv6.15.20//NONSGML v1.0//EN
CALSCALE:GREGORIAN
METHOD:PUBLISH
X-ORIGINAL-URL:https://valladolidensutinta.es
X-WR-CALDESC:Eventos para 
REFRESH-INTERVAL;VALUE=DURATION:PT1H
X-Robots-Tag:noindex
X-PUBLISHED-TTL:PT1H
BEGIN:VTIMEZONE
TZID:Europe/Madrid
BEGIN:DAYLIGHT
TZOFFSETFROM:+0100
TZOFFSETTO:+0200
TZNAME:CEST
DTSTART:20210328T010000
END:DAYLIGHT
BEGIN:STANDARD
TZOFFSETFROM:+0200
TZOFFSETTO:+0100
TZNAME:CET
DTSTART:20211031T010000
END:STANDARD
BEGIN:DAYLIGHT
TZOFFSETFROM:+0100
TZOFFSETTO:+0200
TZNAME:CEST
DTSTART:20220327T010000
END:DAYLIGHT
BEGIN:STANDARD
TZOFFSETFROM:+0200
TZOFFSETTO:+0100
TZNAME:CET
DTSTART:20221030T010000
END:STANDARD
BEGIN:DAYLIGHT
TZOFFSETFROM:+0100
TZOFFSETTO:+0200
TZNAME:CEST
DTSTART:20230326T010000
END:DAYLIGHT
BEGIN:STANDARD
TZOFFSETFROM:+0200
TZOFFSETTO:+0100
TZNAME:CET
DTSTART:20231029T010000
END:STANDARD
END:VTIMEZONE
BEGIN:VEVENT
DTSTART;TZID=Europe/Madrid:20220911T200000
DTEND;TZID=Europe/Madrid:20220911T210000
DTSTAMP:20260423T122939
CREATED:20220809T102914Z
LAST-MODIFIED:20220809T102925Z
UID:11865-1662926400-1662930000@valladolidensutinta.es
SUMMARY:TIEMPO DE FERIA. Teatro "Fin de Feria": "El premio de Nicanor o A quién le doy la suerte" y "Mañana de Sol"\, a cargo de Grupo Tú y Yo
DESCRIPTION:El «Tiempo de Feria» llega a su fin y\, para clausurarlo\, el jardín romántico programa la actuación teatral del Grupo «Tú y Yo»\, integrado por Lita Barnés\, José Luis García Oliveros y Vicente Zautúa; que pondrán en escena dos obras: «El premio de Nicanor o A quién le doy la suerte»\, de Carlos Arniches; y «Mañana de sol»\, de los Hermanos Álvarez Quintero. Entrada con invitación. Recogida de invitaciones en la Casa de Zorrilla (horario habitual)\, a partir del 20 de agosto.
URL:https://valladolidensutinta.es/agenda/tiempo-de-feria-teatro-fin-de-feria-el-premio-de-nicanor-o-a-quien-le-doy-la-suerte-y-manana-de-sol-a-cargo-de-grupo-tu-y-yo/
LOCATION:Casa de Zorrilla/Jardín romántico
CATEGORIES:Casa Zorrilla,Teatro
ATTACH;FMTTYPE=image/jpeg:https://valladolidensutinta.es/wp-content/uploads/2022/08/09-11-Grupo-tu-y-yo.jpg
END:VEVENT
END:VCALENDAR