BEGIN:VCALENDAR
VERSION:2.0
PRODID:-// - ECPv6.15.20//NONSGML v1.0//EN
CALSCALE:GREGORIAN
METHOD:PUBLISH
X-ORIGINAL-URL:https://valladolidensutinta.es
X-WR-CALDESC:Eventos para 
REFRESH-INTERVAL;VALUE=DURATION:PT1H
X-Robots-Tag:noindex
X-PUBLISHED-TTL:PT1H
BEGIN:VTIMEZONE
TZID:Europe/Madrid
BEGIN:DAYLIGHT
TZOFFSETFROM:+0100
TZOFFSETTO:+0200
TZNAME:CEST
DTSTART:20210328T010000
END:DAYLIGHT
BEGIN:STANDARD
TZOFFSETFROM:+0200
TZOFFSETTO:+0100
TZNAME:CET
DTSTART:20211031T010000
END:STANDARD
BEGIN:DAYLIGHT
TZOFFSETFROM:+0100
TZOFFSETTO:+0200
TZNAME:CEST
DTSTART:20220327T010000
END:DAYLIGHT
BEGIN:STANDARD
TZOFFSETFROM:+0200
TZOFFSETTO:+0100
TZNAME:CET
DTSTART:20221030T010000
END:STANDARD
BEGIN:DAYLIGHT
TZOFFSETFROM:+0100
TZOFFSETTO:+0200
TZNAME:CEST
DTSTART:20230326T010000
END:DAYLIGHT
BEGIN:STANDARD
TZOFFSETFROM:+0200
TZOFFSETTO:+0100
TZNAME:CET
DTSTART:20231029T010000
END:STANDARD
END:VTIMEZONE
BEGIN:VEVENT
DTSTART;TZID=Europe/Madrid:20221024T190000
DTEND;TZID=Europe/Madrid:20221024T203000
DTSTAMP:20260423T105144
CREATED:20220921T084207Z
LAST-MODIFIED:20220921T084250Z
UID:12023-1666638000-1666643400@valladolidensutinta.es
SUMMARY:V Jornadas de Poesía en Valladolid: "A hombros de gigantes. Poesía y desmemoria"
DESCRIPTION:Miércoles\, 26\, jueves 27 y viernes 28 de octubre. Sala “Francisco de Cossío” (Casa Revilla) y Facultad de Derecho. Ciclo monográfico: V Jornadas de Poesía en Valladolid. «A hombros de gigantes. Poesía y desmemoria». Organiza: Valladolid Letraherido. Colabora: Universidad de Valladolid\, Facultad de Derecho. Coordina: Javier Dámaso. \nPrograma \nLunes 24 \n20:00 h. Teatro. “Amalia y el río”. Teatro Guirigai. Sala Borja. Entradas: Centro Buendía. \nMiércoles 26. Sala “Francisco de Cossío” (Casa Revilla). Entrada libre. Retransmisión por internet a través del Facebook de la Casa de Zorrilla. \n19:30 h. Intervenciones inaugurales. Javier Dámaso y Pedro  Ojeda. \n20:00 h. Poesía en vivo (I). Yolanda Izard\, Carlos Aganzo\, Glad Mendía. \nJueves 27. Sala “Francisco de Cossío” (Casa Revilla). Entrada libre. Retransmisión por internet a través del Facebook de la Casa de Zorrilla. \n18:00 h. Homenaje a Francisco Pino. «La inseparable relación entre tradición y vanguardia». Intervienen: Antonio Piedra\, Francisco Pino Jiménez\, José Noriega y Javier  Dámaso. \n19:30 h. Poesía en vivo (II). María Ángeles Pérez López\, Álvaro Mata Guillé\, José Luis Cancho. \nViernes 28. \n9:00–14:00 h. Facultad de Derecho. Jornada «Derecho y literatura. Desmemoria\, derecho y literatura». Luis Díaz Viana Stefania di Leo\, Jesús García Cívico\, Irene Merino Calle\, Javier Dámaso\, Isolina Dabove y Álvaro Mata Guillé. Entrada libre. \n19:30 h. Sala “Francisco de Cossío” (Casa Revilla). Entrada libre. Retransmisión por internet a través del Facebook de la Casa de Zorrilla. \nPoesía en vivo (III). Stefania di Leo\, Montserrat Villar\, Antonio Orihuela.   Entrada libre.
URL:https://valladolidensutinta.es/agenda/v-jornadas-de-poesia-en-valladolid-a-hombros-de-gigantes-poesia-y-desmemoria/
LOCATION:Sala Borja\, C/ Ruiz Hernández\, Valladolid
CATEGORIES:Jornadas y ciclos,Teatro,Valladolid Letraherido
ATTACH;FMTTYPE=image/jpeg:https://valladolidensutinta.es/wp-content/uploads/2022/09/26-28-Jornadas-Damaso.jpg
END:VEVENT
END:VCALENDAR