BEGIN:VCALENDAR
VERSION:2.0
PRODID:-// - ECPv6.15.20//NONSGML v1.0//EN
CALSCALE:GREGORIAN
METHOD:PUBLISH
X-ORIGINAL-URL:https://valladolidensutinta.es
X-WR-CALDESC:Eventos para 
REFRESH-INTERVAL;VALUE=DURATION:PT1H
X-Robots-Tag:noindex
X-PUBLISHED-TTL:PT1H
BEGIN:VTIMEZONE
TZID:Europe/Madrid
BEGIN:DAYLIGHT
TZOFFSETFROM:+0100
TZOFFSETTO:+0200
TZNAME:CEST
DTSTART:20240331T010000
END:DAYLIGHT
BEGIN:STANDARD
TZOFFSETFROM:+0200
TZOFFSETTO:+0100
TZNAME:CET
DTSTART:20241027T010000
END:STANDARD
BEGIN:DAYLIGHT
TZOFFSETFROM:+0100
TZOFFSETTO:+0200
TZNAME:CEST
DTSTART:20250330T010000
END:DAYLIGHT
BEGIN:STANDARD
TZOFFSETFROM:+0200
TZOFFSETTO:+0100
TZNAME:CET
DTSTART:20251026T010000
END:STANDARD
BEGIN:DAYLIGHT
TZOFFSETFROM:+0100
TZOFFSETTO:+0200
TZNAME:CEST
DTSTART:20260329T010000
END:DAYLIGHT
BEGIN:STANDARD
TZOFFSETFROM:+0200
TZOFFSETTO:+0100
TZNAME:CET
DTSTART:20261025T010000
END:STANDARD
END:VTIMEZONE
BEGIN:VEVENT
DTSTART;TZID=Europe/Madrid:20250624T213000
DTEND;TZID=Europe/Madrid:20250624T213000
DTSTAMP:20260421T101703
CREATED:20250605T073008Z
LAST-MODIFIED:20250605T073216Z
UID:15406-1750800600-1750800600@valladolidensutinta.es
SUMMARY:21:30 h. Teatro. “Grease burgués”. A cargo de “El grupo de los martes”. Dirige: Evangelina Valdespino. Ejercicios fin de curso La Bien Pagá
DESCRIPTION:Martes 24. 21:30 h. Teatro. “Grease burgués”. A cargo de “El grupo de los martes”. Dirige: Evangelina Valdespino. Ejercicios fin de curso La Bien Pagá. Entrada con invitación. \nInvitaciones: en Casa de Zorrilla\, desde el sábado anterior a la actividad. Máximo 2 por persona.
URL:https://valladolidensutinta.es/agenda/2130-h-teatro-grease-burgues-a-cargo-de-el-grupo-de-los-martes-dirige-evangelina-valdespino-ejercicios-fin-de-curso-la-bien-paga/
LOCATION:Casa de Zorrilla/Jardín romántico
CATEGORIES:Casa Zorrilla,Teatro
ATTACH;FMTTYPE=image/jpeg:https://valladolidensutinta.es/wp-content/uploads/2025/06/La-bien-paga.jpeg
END:VEVENT
END:VCALENDAR