BEGIN:VCALENDAR
VERSION:2.0
PRODID:-// - ECPv6.15.20//NONSGML v1.0//EN
CALSCALE:GREGORIAN
METHOD:PUBLISH
X-ORIGINAL-URL:https://valladolidensutinta.es
X-WR-CALDESC:Eventos para 
REFRESH-INTERVAL;VALUE=DURATION:PT1H
X-Robots-Tag:noindex
X-PUBLISHED-TTL:PT1H
BEGIN:VTIMEZONE
TZID:Europe/Madrid
BEGIN:DAYLIGHT
TZOFFSETFROM:+0100
TZOFFSETTO:+0200
TZNAME:CEST
DTSTART:20230326T010000
END:DAYLIGHT
BEGIN:STANDARD
TZOFFSETFROM:+0200
TZOFFSETTO:+0100
TZNAME:CET
DTSTART:20231029T010000
END:STANDARD
BEGIN:DAYLIGHT
TZOFFSETFROM:+0100
TZOFFSETTO:+0200
TZNAME:CEST
DTSTART:20240331T010000
END:DAYLIGHT
BEGIN:STANDARD
TZOFFSETFROM:+0200
TZOFFSETTO:+0100
TZNAME:CET
DTSTART:20241027T010000
END:STANDARD
BEGIN:DAYLIGHT
TZOFFSETFROM:+0100
TZOFFSETTO:+0200
TZNAME:CEST
DTSTART:20250330T010000
END:DAYLIGHT
BEGIN:STANDARD
TZOFFSETFROM:+0200
TZOFFSETTO:+0100
TZNAME:CET
DTSTART:20251026T010000
END:STANDARD
END:VTIMEZONE
BEGIN:VEVENT
DTSTART;TZID=Europe/Madrid:20240217T180000
DTEND;TZID=Europe/Madrid:20240217T190000
DTSTAMP:20260423T190851
CREATED:20240125T110157Z
LAST-MODIFIED:20240125T115421Z
UID:13103-1708192800-1708196400@valladolidensutinta.es
SUMMARY:207 cumpleaños de José Zorrilla 1817-2024. Concierto: "Música en el salón romántico de D. José Zorrilla". Pianoforte: José Ramón Echezarreta. Tenor: Pedro Marcos Pérez.
DESCRIPTION:El programa «Valladolid Letraherido» y la Casa de Zorrilla organizan este concierto en el Salón de la Música de la Casa de Zorrilla. El programa incluirá obras de Schumann\, Moretti\, Beethoven\, Haydn y Bach. Se realizarán dos pases del concierto el sábado 17 de febrero\, a las 12 y a las 19 horas (con el mismo programa). Aforo: 40 pas. Entrada gratuita con invitación. Recogida de invitaciones en Casa de Zorrilla\, a partir del sábado 3 de febrero (horario habitual). Máximo 2 entradas por persona.
URL:https://valladolidensutinta.es/agenda/207-cumpleanos-de-jose-zorrilla-1817-2024-concierto-musica-en-el-salon-romantico-de-d-jose-zorrilla-pianoforte-jose-ramon-echezarreta-tenor-pedro-marcos-perez-2/
LOCATION:Casa de Zorrilla/Sala de Música
CATEGORIES:Casa Zorrilla,Concierto,Homenajes y memoriales,Valladolid Letraherido
ATTACH;FMTTYPE=image/jpeg:https://valladolidensutinta.es/wp-content/uploads/2024/01/14-a-21-Cumpleanos-Zorrilla-Conciertos.jpeg
END:VEVENT
END:VCALENDAR