BEGIN:VCALENDAR
VERSION:2.0
PRODID:-// - ECPv6.15.20//NONSGML v1.0//EN
CALSCALE:GREGORIAN
METHOD:PUBLISH
X-ORIGINAL-URL:https://valladolidensutinta.es
X-WR-CALDESC:Eventos para 
REFRESH-INTERVAL;VALUE=DURATION:PT1H
X-Robots-Tag:noindex
X-PUBLISHED-TTL:PT1H
BEGIN:VTIMEZONE
TZID:Europe/Madrid
BEGIN:DAYLIGHT
TZOFFSETFROM:+0100
TZOFFSETTO:+0200
TZNAME:CEST
DTSTART:20210328T010000
END:DAYLIGHT
BEGIN:STANDARD
TZOFFSETFROM:+0200
TZOFFSETTO:+0100
TZNAME:CET
DTSTART:20211031T010000
END:STANDARD
BEGIN:DAYLIGHT
TZOFFSETFROM:+0100
TZOFFSETTO:+0200
TZNAME:CEST
DTSTART:20220327T010000
END:DAYLIGHT
BEGIN:STANDARD
TZOFFSETFROM:+0200
TZOFFSETTO:+0100
TZNAME:CET
DTSTART:20221030T010000
END:STANDARD
BEGIN:DAYLIGHT
TZOFFSETFROM:+0100
TZOFFSETTO:+0200
TZNAME:CEST
DTSTART:20230326T010000
END:DAYLIGHT
BEGIN:STANDARD
TZOFFSETFROM:+0200
TZOFFSETTO:+0100
TZNAME:CET
DTSTART:20231029T010000
END:STANDARD
END:VTIMEZONE
BEGIN:VEVENT
DTSTART;TZID=Europe/Madrid:20220920T190000
DTEND;TZID=Europe/Madrid:20220920T200000
DTSTAMP:20260423T200817
CREATED:20220811T075258Z
LAST-MODIFIED:20220920T064459Z
UID:11904-1663700400-1663704000@valladolidensutinta.es
SUMMARY:CANCELADO. El jardín de las buenas letras. Presentación editorial: "El maravilloso viaje de Dante"\, de Esperanza Ortega y Cintia Martín
DESCRIPTION:La propuesta «El jardín de las buenas letras» del programa «Valladolid Letraherido» convoca la presentación editorial del libro ilustrado en edición de artista El maravilloso viaje de Dante\,  con textos de Esperanza Ortega e ilustraciones de Cintia Martín. Presentan: las autoras. Edita: Ediciones Tralarí\, con la colaboración de FMC. Entrada libre hasta completar aforo. \nVer además el evento programado para el sábado 24 de septiembre a las 12:00 horas en el jardín romántico de la Casa de Zorrilla.
URL:https://valladolidensutinta.es/agenda/el-jardin-de-las-buenas-letras-presentacion-editorial-el-maravilloso-viaje-de-dante-de-esperanza-ortega-y-cintia-martin/
LOCATION:Casa de Zorrilla/Jardín romántico
CATEGORIES:Casa Zorrilla,Presentación editorial,Valladolid Letraherido
ATTACH;FMTTYPE=image/jpeg:https://valladolidensutinta.es/wp-content/uploads/2022/08/20-y-24-Cintia-2.jpeg
END:VEVENT
END:VCALENDAR