BEGIN:VCALENDAR
VERSION:2.0
PRODID:-// - ECPv6.15.20//NONSGML v1.0//EN
CALSCALE:GREGORIAN
METHOD:PUBLISH
X-ORIGINAL-URL:https://valladolidensutinta.es
X-WR-CALDESC:Eventos para 
REFRESH-INTERVAL;VALUE=DURATION:PT1H
X-Robots-Tag:noindex
X-PUBLISHED-TTL:PT1H
BEGIN:VTIMEZONE
TZID:Europe/Madrid
BEGIN:DAYLIGHT
TZOFFSETFROM:+0100
TZOFFSETTO:+0200
TZNAME:CEST
DTSTART:20220327T010000
END:DAYLIGHT
BEGIN:STANDARD
TZOFFSETFROM:+0200
TZOFFSETTO:+0100
TZNAME:CET
DTSTART:20221030T010000
END:STANDARD
BEGIN:DAYLIGHT
TZOFFSETFROM:+0100
TZOFFSETTO:+0200
TZNAME:CEST
DTSTART:20230326T010000
END:DAYLIGHT
BEGIN:STANDARD
TZOFFSETFROM:+0200
TZOFFSETTO:+0100
TZNAME:CET
DTSTART:20231029T010000
END:STANDARD
BEGIN:DAYLIGHT
TZOFFSETFROM:+0100
TZOFFSETTO:+0200
TZNAME:CEST
DTSTART:20240331T010000
END:DAYLIGHT
BEGIN:STANDARD
TZOFFSETFROM:+0200
TZOFFSETTO:+0100
TZNAME:CET
DTSTART:20241027T010000
END:STANDARD
END:VTIMEZONE
BEGIN:VEVENT
DTSTART;TZID=Europe/Madrid:20230714T203000
DTEND;TZID=Europe/Madrid:20230714T220000
DTSTAMP:20260422T183603
CREATED:20230614T081302Z
LAST-MODIFIED:20230614T083143Z
UID:12590-1689366600-1689372000@valladolidensutinta.es
SUMMARY:Teatro: "Zapatos color luna (sobre textos de Federico García Lorca". Elenco Amigos del Teatro.
DESCRIPTION:El jardín romántico de la Casa Zorrilla acoge la representación de «Zapatos color luna»\, basado en textos teatrales de Federico García Lorca. Elenco: Amigos del Teatro (Maribel Arranz\, Conchy González\, Priscila Navarro\, Begoña Burgos\, Manoli Martín\, Ruth Pascual). Dirección: Elvira Abad. Versión Blanca Herrera\, sobre obra original de Marc Egea.  Entradas: 8 €. A la venta en Casa de Zorrilla a partir del 17 de junio: martes a sábado\, 10-14 y 17-20 h; domingos y festivos\, 10-14 h. Apertura de puertas: 21:15 h.
URL:https://valladolidensutinta.es/agenda/12590/
LOCATION:Casa de Zorrilla/Jardín romántico
CATEGORIES:Casa Zorrilla,Programación de verano,Teatro
ATTACH;FMTTYPE=image/jpeg:https://valladolidensutinta.es/wp-content/uploads/2023/06/07-14-Zapatos-e1686730334792.jpg
END:VEVENT
BEGIN:VEVENT
DTSTART;TZID=Europe/Madrid:20230714T203000
DTEND;TZID=Europe/Madrid:20230714T220000
DTSTAMP:20260422T183603
CREATED:20230614T081302Z
LAST-MODIFIED:20230614T081302Z
UID:14071-1689366600-1689372000@valladolidensutinta.es
SUMMARY:Teatro: "Zapatos color luna (sobre textos de Federico García Lorca". Elenco Amigos del Teatro.
DESCRIPTION:El jardín romántico de la Casa Zorrilla acoge la representación de «Zapatos color luna»\, basado en textos teatrales de Federico García Lorca. Elenco: Amigos del Teatro (Maribel Arranz\, Conchy González\, Priscila Navarro\, Begoña Burgos\, Manoli Martín\, Ruth Pascual). Dirección: Elvira Abad. Versión Blanca Herrera\, sobre obra original de Marc Egea.  Entradas: 8 €. A la venta en Casa de Zorrilla a partir del 17 de junio: martes a sábado\, 10-14 y 17-20 h; domingos y festivos\, 10-14 h. Apertura de puertas: 21:15 h.
URL:https://valladolidensutinta.es/agenda/12590-2/
LOCATION:Casa de Zorrilla/Jardín romántico
CATEGORIES:Casa Zorrilla,Programación de verano,Teatro
ATTACH;FMTTYPE=image/jpeg:https://valladolidensutinta.es/wp-content/uploads/2023/06/07-14-Zapatos-e1686730334792.jpg
END:VEVENT
END:VCALENDAR