BEGIN:VCALENDAR
VERSION:2.0
PRODID:-// - ECPv6.15.20//NONSGML v1.0//EN
CALSCALE:GREGORIAN
METHOD:PUBLISH
X-ORIGINAL-URL:https://valladolidensutinta.es
X-WR-CALDESC:Eventos para 
REFRESH-INTERVAL;VALUE=DURATION:PT1H
X-Robots-Tag:noindex
X-PUBLISHED-TTL:PT1H
BEGIN:VTIMEZONE
TZID:Europe/Madrid
BEGIN:DAYLIGHT
TZOFFSETFROM:+0100
TZOFFSETTO:+0200
TZNAME:CEST
DTSTART:20220327T010000
END:DAYLIGHT
BEGIN:STANDARD
TZOFFSETFROM:+0200
TZOFFSETTO:+0100
TZNAME:CET
DTSTART:20221030T010000
END:STANDARD
BEGIN:DAYLIGHT
TZOFFSETFROM:+0100
TZOFFSETTO:+0200
TZNAME:CEST
DTSTART:20230326T010000
END:DAYLIGHT
BEGIN:STANDARD
TZOFFSETFROM:+0200
TZOFFSETTO:+0100
TZNAME:CET
DTSTART:20231029T010000
END:STANDARD
BEGIN:DAYLIGHT
TZOFFSETFROM:+0100
TZOFFSETTO:+0200
TZNAME:CEST
DTSTART:20240331T010000
END:DAYLIGHT
BEGIN:STANDARD
TZOFFSETFROM:+0200
TZOFFSETTO:+0100
TZNAME:CET
DTSTART:20241027T010000
END:STANDARD
END:VTIMEZONE
BEGIN:VEVENT
DTSTART;TZID=Europe/Madrid:20230520T110000
DTEND;TZID=Europe/Madrid:20230521T190000
DTSTAMP:20260423T052907
CREATED:20230507T090744Z
LAST-MODIFIED:20230507T090807Z
UID:12461-1684580400-1684695600@valladolidensutinta.es
SUMMARY:Festival cultural: "Valladolid tiene historia". Organiza: Asociación cultural "Torre del Homenaje"
DESCRIPTION:La Casa de Zorrilla acoge una de las secciones del festival cultural organizado por la Asociación cultural «Torre del Homenaje»\, en el marco de la conmemoración del quinto centenario del Palacio Real de Valladolid y de las fiestas de San Pedro Regalado\, patrón de Valladolid. En el jardín romántico de la Casa de Zorrilla tendrán lugar varios recitales de poesía\, un espectáculo de magia\, una actuación musical\, talleres infantiles\, cuentacuentos\, etc. Horario: de 12 a 14 y 17:30 a 20 horas. Entrada libre.
URL:https://valladolidensutinta.es/agenda/festival-cultural-valladolid-tiene-historia-organiza-asociacion-cultural-torre-del-homenaje/
LOCATION:Casa de Zorrilla/Jardín romántico
CATEGORIES:Casa Zorrilla,Espectáculo literario-musical,Ferias y jornadas monográficas,Recital,Taller infantil
ATTACH;FMTTYPE=image/jpeg:https://valladolidensutinta.es/wp-content/uploads/2023/05/20-21-Asociacion-Torre-del-Homenaje.jpg
END:VEVENT
BEGIN:VEVENT
DTSTART;TZID=Europe/Madrid:20230520T110000
DTEND;TZID=Europe/Madrid:20230521T190000
DTSTAMP:20260423T052907
CREATED:20230507T090744Z
LAST-MODIFIED:20230507T090744Z
UID:14038-1684580400-1684695600@valladolidensutinta.es
SUMMARY:Festival cultural: "Valladolid tiene historia". Organiza: Asociación cultural "Torre del Homenaje"
DESCRIPTION:La Casa de Zorrilla acoge una de las secciones del festival cultural organizado por la Asociación cultural «Torre del Homenaje»\, en el marco de la conmemoración del quinto centenario del Palacio Real de Valladolid y de las fiestas de San Pedro Regalado\, patrón de Valladolid. En el jardín romántico de la Casa de Zorrilla tendrán lugar varios recitales de poesía\, un espectáculo de magia\, una actuación musical\, talleres infantiles\, cuentacuentos\, etc. Horario: de 12 a 14 y 17:30 a 20 horas. Entrada libre.
URL:https://valladolidensutinta.es/agenda/festival-cultural-valladolid-tiene-historia-organiza-asociacion-cultural-torre-del-homenaje-2/
LOCATION:Casa de Zorrilla/Jardín romántico
CATEGORIES:Casa Zorrilla,Espectáculo literario-musical,Ferias y jornadas monográficas,Recital,Taller infantil
ATTACH;FMTTYPE=image/jpeg:https://valladolidensutinta.es/wp-content/uploads/2023/05/20-21-Asociacion-Torre-del-Homenaje.jpg
END:VEVENT
END:VCALENDAR