BEGIN:VCALENDAR
VERSION:2.0
PRODID:-// - ECPv6.15.20//NONSGML v1.0//EN
CALSCALE:GREGORIAN
METHOD:PUBLISH
X-ORIGINAL-URL:https://valladolidensutinta.es
X-WR-CALDESC:Eventos para 
REFRESH-INTERVAL;VALUE=DURATION:PT1H
X-Robots-Tag:noindex
X-PUBLISHED-TTL:PT1H
BEGIN:VTIMEZONE
TZID:Europe/Madrid
BEGIN:DAYLIGHT
TZOFFSETFROM:+0100
TZOFFSETTO:+0200
TZNAME:CEST
DTSTART:20220327T010000
END:DAYLIGHT
BEGIN:STANDARD
TZOFFSETFROM:+0200
TZOFFSETTO:+0100
TZNAME:CET
DTSTART:20221030T010000
END:STANDARD
BEGIN:DAYLIGHT
TZOFFSETFROM:+0100
TZOFFSETTO:+0200
TZNAME:CEST
DTSTART:20230326T010000
END:DAYLIGHT
BEGIN:STANDARD
TZOFFSETFROM:+0200
TZOFFSETTO:+0100
TZNAME:CET
DTSTART:20231029T010000
END:STANDARD
BEGIN:DAYLIGHT
TZOFFSETFROM:+0100
TZOFFSETTO:+0200
TZNAME:CEST
DTSTART:20240331T010000
END:DAYLIGHT
BEGIN:STANDARD
TZOFFSETFROM:+0200
TZOFFSETTO:+0100
TZNAME:CET
DTSTART:20241027T010000
END:STANDARD
END:VTIMEZONE
BEGIN:VEVENT
DTSTART;TZID=Europe/Madrid:20231121T190000
DTEND;TZID=Europe/Madrid:20231121T200000
DTSTAMP:20260423T111300
CREATED:20231031T080933Z
LAST-MODIFIED:20231031T081022Z
UID:12954-1700593200-1700596800@valladolidensutinta.es
SUMMARY:Presentación editorial: "Los gatos no hacen preguntas" (relatos)\, de Isabel Bernardo. Presenta: Pedro Ojeda
DESCRIPTION:El programa Valladolid Letraherido acoge la presentación del libro de relatos «Los gatos no hacen preguntas»\, de Isabel Bernardo. Presenta: Pedro Ojeda. Edita: Castilla Ediciones. Entrada libre hasta completar aforo: 45 pas. Retransmisión en directo por internet a través del Facebook de la Casa de Zorrilla.
URL:https://valladolidensutinta.es/agenda/presentacion-editorial-los-gatos-no-hacen-preguntas-relatos-de-isabel-bernardo-presenta-pedro-ojeda/
CATEGORIES:Casa Zorrilla,Presentación editorial,Valladolid Letraherido
ATTACH;FMTTYPE=image/jpeg:https://valladolidensutinta.es/wp-content/uploads/2023/10/21-Isabel-Bernardo.jpg
END:VEVENT
BEGIN:VEVENT
DTSTART;TZID=Europe/Madrid:20231121T190000
DTEND;TZID=Europe/Madrid:20231121T200000
DTSTAMP:20260423T111300
CREATED:20231031T080933Z
LAST-MODIFIED:20231031T080933Z
UID:14138-1700593200-1700596800@valladolidensutinta.es
SUMMARY:Presentación editorial: "Los gatos no hacen preguntas" (relatos)\, de Isabel Bernardo. Presenta: Pedro Ojeda
DESCRIPTION:El programa Valladolid Letraherido acoge la presentación del libro de relatos «Los gatos no hacen preguntas»\, de Isabel Bernardo. Presenta: Pedro Ojeda. Edita: Castilla Ediciones. Entrada libre hasta completar aforo: 45 pas. Retransmisión en directo por internet a través del Facebook de la Casa de Zorrilla.
URL:https://valladolidensutinta.es/agenda/presentacion-editorial-los-gatos-no-hacen-preguntas-relatos-de-isabel-bernardo-presenta-pedro-ojeda-2/
CATEGORIES:Casa Zorrilla,Presentación editorial,Valladolid Letraherido
ATTACH;FMTTYPE=image/jpeg:https://valladolidensutinta.es/wp-content/uploads/2023/10/21-Isabel-Bernardo.jpg
END:VEVENT
END:VCALENDAR